BEGIN:VCALENDAR
VERSION:2.0
PRODID:-//ChamberMaster//Event Calendar 2.0//EN
METHOD:PUBLISH
X-PUBLISHED-TTL:P3D
REFRESH-INTERVAL:P3D
CALSCALE:GREGORIAN
BEGIN:VEVENT
DTSTART:20220525T233000Z
DTEND:20220612T200000Z
X-MICROSOFT-CDO-ALLDAYEVENT:FALSE
SUMMARY:The Agitators
DESCRIPTION:The Agitators tells of the enduring but tempestuous friendship of Susan B. Anthony and Frederick Douglass. Great allies? Yes. And at times\, great adversaries. Young abolitionists when they met in Rochester in the 1840s\, they were full of hopes\, dreams\, and a common purpose. As they grew to become the cultural icons we know today\, their movements collided and their friendship was severely tested. This is the story of that forty-five-year friendship   from its beginning in Rochester\, through a civil war\, and to the highest halls of government. They agitated the nation\, they agitated each other\, and\, in doing so\, they helped shape the Constitution and the course of American history. Previews (May 25 & 26) Wednesday at 7:30pm Thursday at 2:00pm and 7:30pm Regular Performances (May 27 - June 12) Friday at 8:00pm Saturday at 2:00pm and 8:00pm Sunday at 2:00pm Tuesday at 2:00pm Wednesday at 7:30pm Thursday at 7:30pm Talk Back with the cast after the Sunday matinee performances. COVID-19 Policy: Vaccination card checks and masks are not required. However\, masks are strongly encouraged.
X-ALT-DESC;FMTTYPE=text/html:The Agitators tells of the enduring but tempestuous friendship of Susan B. Anthony and Frederick Douglass. Great allies? Yes. And at times\, great adversaries. Young abolitionists when they met in Rochester in the 1840s\, they were full of hopes\, dreams\, and a common purpose. As they grew to become the cultural icons we know today\, their movements collided and their friendship was severely tested. This is the story of that forty-five-year friendship &ndash\; from its beginning in Rochester\, through a civil war\, and to the highest halls of government. They agitated the nation\, they agitated each other\, and\, in doing so\, they helped shape the Constitution and the course of American history. Previews (May 25 &amp\; 26) Wednesday at 7:30pm Thursday at 2:00pm and 7:30pm Regular Performances (May 27 - June 12) Friday at 8:00pm Saturday at 2:00pm and 8:00pm Sunday at 2:00pm Tuesday at 2:00pm Wednesday at 7:30pm Thursday at 7:30pm Talk Back with the cast after the Sunday matinee performances. COVID-19 Policy: Vaccination card checks and masks are not required. However\, masks are strongly encouraged.
LOCATION:Playhouse on Park
UID:e.3150.9466
SEQUENCE:3
DTSTAMP:20260426T010340Z
URL:https://business.whchamber.com/events/details/the-agitators-9466
END:VEVENT

END:VCALENDAR
