BEGIN:VCALENDAR
VERSION:2.0
PRODID:-//ChamberMaster//Event Calendar 2.0//EN
METHOD:PUBLISH
X-PUBLISHED-TTL:P3D
REFRESH-INTERVAL:P3D
CALSCALE:GREGORIAN
BEGIN:VEVENT
DTSTART:20241107T233000Z
DTEND:20241108T003000Z
X-MICROSOFT-CDO-ALLDAYEVENT:FALSE
SUMMARY:“Textile Production in Early America” | Masters Lecture Series
DESCRIPTION:Textile production was an important component of the early American economy\, and continues to be a career and hobby for many individuals today. This talk will focus on the techniques and tools that weavers like Noah Webster's father would have used to produce cloth for their communities. This includes a review of common natural fiber sources\, basic fabric structures\, and design considerations. Participants will have the chance to see examples of antique fiber processing equipment and learn about how they have been used for the past 300+ years.\n\nTickets are available now at www.noahwebster.yapsody.com!\n\nAbout the Presenter: Margaret Liljedahl is a West Hartford native who had her first encounter with an antique loom at the Noah Webster House. Over the past decade\, Margaret has studied historical weaving techniques and has the privilege of working with several historical sites and museums across Connecticut and New York to get their barn looms singing again. She is an active member of the Handweavers Guild of Connecticut and is passionate about connecting antique fiber equipment with locals who still know how to use them.
X-ALT-DESC;FMTTYPE=text/html:<p><span style="background-color:transparent\; color:rgb(68\, 68\, 68)\; font-family:arial\,sans-serif\; font-size:12pt">Textile production was an important component of the early American economy\, and continues to be a career and hobby for many individuals today. This talk will focus on the techniques and tools that weavers like Noah Webster&rsquo\;s father would have used to produce cloth for their communities. This includes a review of common natural fiber sources\, basic fabric structures\, and design considerations. Participants will have the chance to see examples of antique fiber processing equipment and learn about how they have been used for the past 300+ years.</span></p>\n\n<p><span style="background-color:transparent\; color:rgb(68\, 68\, 68)\; font-family:arial\,sans-serif\; font-size:12pt">Tickets are available now at www.noahwebster.yapsody.com!</span></p>\n\n<p><strong>About the Presenter:</strong><span style="background-color:transparent\; color:rgb(68\, 68\, 68)\; font-family:arial\,sans-serif\; font-size:12pt"> Margaret Liljedahl is a West Hartford native who had her first encounter with an antique loom at the Noah Webster House. Over the past decade\, Margaret has studied historical weaving techniques and has the privilege of working with several historical sites and museums across Connecticut and New York to get their barn looms singing again. She is an active member of the Handweavers Guild of Connecticut and is passionate about connecting antique fiber equipment with locals who still know how to use them.</span></p>\n\n<div>&nbsp\;</div>\n
LOCATION:Noah Webster House & West Hartford Historical Society 227 South Main Street\, West Hartford\, CT\, 06107
UID:e.3150.15038
SEQUENCE:3
DTSTAMP:20260424T122837Z
URL:https://business.whchamber.com/events/details/textile-production-in-early-america-masters-lecture-series-15038
END:VEVENT

END:VCALENDAR
