BEGIN:VCALENDAR
VERSION:2.0
PRODID:-//ChamberMaster//Event Calendar 2.0//EN
METHOD:PUBLISH
X-PUBLISHED-TTL:P3D
REFRESH-INTERVAL:P3D
CALSCALE:GREGORIAN
BEGIN:VEVENT
DTSTART:20230216T000000Z
DTEND:20230216T010000Z
X-MICROSOFT-CDO-ALLDAYEVENT:FALSE
SUMMARY:Team Leadership in a Remote Workplace
DESCRIPTION:Managing teams in the remote/hybrid spaces of the post-pandemic world takes thoughtful\, and very often innovative\, leadership skills. In this session\, you will hear from leaders across a variety of industries who have managed remote/hybrid teams successfully. Join us for this virtual session and panel discussion to build your skills and develop as a leader. This event is sponsored by The Hartford. \n\n\n\nFeb. 15\, 2023: Team Leadership in a Remote Workplace \n\n\n\n7-8 p.m. EST Virtual Event  \n\n\n\nThe event is free to attend\, but registration is required.  \n\n \n\n\n\nRegister here
X-ALT-DESC;FMTTYPE=text/html:<div>\n<p><span style="color:windowtext\; font-family:calibri\,calibri_embeddedfont\,calibri_msfontservice\,sans-serif\; font-size:14pt">Managing teams in the remote/hybrid spaces of the post-pandemic world takes thoughtful\, and very often innovative\, leadership skills. In this session\, you will hear from leaders across a variety of industries who have managed remote/hybrid teams successfully. Join us for this virtual session and panel discussion to build your skills and develop as a leader. This event is sponsored by The Hartford.</span><span style="color:windowtext\; font-family:calibri\,calibri_embeddedfont\,calibri_msfontservice\,sans-serif\; font-size:14pt">&nbsp\;</span></p>\n</div>\n\n<div>\n<p><span style="color:rgb(0\, 0\, 0)\; font-family:calibri\,calibri_embeddedfont\,calibri_msfontservice\,sans-serif\; font-size:14pt">Feb. 15\, 2023: </span><strong>Team Leadership in a Remote Workplace</strong><span style="color:rgb(30\, 10\, 60)\; font-family:calibri\,calibri_embeddedfont\,calibri_msfontservice\,sans-serif\; font-size:14pt">&nbsp\;</span></p>\n</div>\n\n<div>\n<p><span style="font-family:calibri\,calibri_embeddedfont\,calibri_msfontservice\,sans-serif\; font-size:14pt">7-8 p.m. EST Virtual Event&nbsp\;</span><span style="font-family:calibri\,calibri_embeddedfont\,calibri_msfontservice\,sans-serif\; font-size:14pt">&nbsp\;</span></p>\n</div>\n\n<div>\n<p><span style="font-family:calibri\,calibri_embeddedfont\,calibri_msfontservice\,sans-serif\; font-size:14pt">The event is free to attend\, but registration is required. </span><span style="font-family:wordvisicarriagereturn_msfontservice\,calibri\,calibri_embeddedfont\,calibri_msfontservice\,sans-serif\; font-size:14pt">&nbsp\;</span><br />\n<span style="font-family:calibri\,calibri_embeddedfont\,calibri_msfontservice\,sans-serif\; font-size:14pt">&nbsp\;</span></p>\n</div>\n\n<div>\n<p><a class="Hyperlink SCXW179879791 BCX0" href="https://www.eventbrite.com/e/team-leadership-in-a-remote-workplace-tickets-504687994377" rel="noreferrer noopener" style="margin: 0px\; padding: 0px\; user-select: text\; -webkit-user-drag: none\; -webkit-tap-highlight-color: transparent\; text-decoration-line: none\; color: inherit\;" target="_blank"><span style="color:rgb(5\, 99\, 193)\; font-family:calibri\,calibri_embeddedfont\,calibri_msfontservice\,sans-serif\; font-size:14pt">Register here</span></a><span style="font-family:calibri\,calibri_embeddedfont\,calibri_msfontservice\,sans-serif\; font-size:14pt">&nbsp\;</span></p>\n</div>\n\n<div>\n<p><span style="font-family:calibri\,calibri_embeddedfont\,calibri_msfontservice\,sans-serif\; font-size:11pt">&nbsp\;</span></p>\n</div>\n
LOCATION:Virtual Event
UID:e.3150.12473
SEQUENCE:3
DTSTAMP:20260425T192927Z
URL:https://business.whchamber.com/events/details/team-leadership-in-a-remote-workplace-12473
END:VEVENT

END:VCALENDAR
