BEGIN:VCALENDAR
VERSION:2.0
PRODID:-//ChamberMaster//Event Calendar 2.0//EN
METHOD:PUBLISH
X-PUBLISHED-TTL:P3D
REFRESH-INTERVAL:P3D
CALSCALE:GREGORIAN
BEGIN:VEVENT
DTSTART:20241004T130000Z
DTEND:20241004T230000Z
X-MICROSOFT-CDO-ALLDAYEVENT:FALSE
SUMMARY:Team John Foundation Golf Tourn
DESCRIPTION:Team John Foundation Charity Golf Event - 2024\n\nTeam John Foundation\n\n\n\nPlease join us for the Team John Foundation Charity Golf Event\, being held on Friday\, October 4\, 2024!\n\n \n\n \n\nWe will be giving a $50 discount per golfer up to 110 golfers ($200 off of a foursome). The price with the discount is the same as last year ($250 single/$1000 foursome). Foursomes will not be reserved and must be paid for in order to secure your spot! \n\n \n\n\nTournament Features\n\nExclusive Private Golf Course\, Driving Range\, 18 Hole Scramble\,  Drinks & Snacks on the course\, Lunch\, Dinner & Open Bar Plenty of Contests...Long Drive\, Men's & Women's\, Closest to the Pin\, Putting Contest and more!!\n\n \n\n\nSchedule\n\nCome early enough (9am) to use the driving range (included) \n\n9 am Registration\n\n10 am Shotgun\n\n3 pm Buffet /2 hour open bar\, Raffle & Silent Auction\n\n\n \n\n\nTeam John Foundation\n\nTeam John Foundation's Mission is to help those that fall into crisis. Not only when someone is diagnosed with cancer but also for any immediate crisis where a loved one is lost or displaced due to sudden illness or accident. \n\n \n\n \n\nThis golf tournament will also help fund the great missions of The Leukemia & Lymphoma Society of Greater CT & The Jimmy Fund.\n\n\n \n\n\nThe Leukemia & Lymphoma Society\n\nCure Leukemia\, Lymphoma\, Hodgkin's Disease and Myeloma\, and improve the quality of life of the patients and their families.\n\n \n\nThe Jimmy Fund\n\nThe Jimmy Fund solely supports the fight against cancer at Dana-Farber. Since its founding in 1948\, the Jimmy Fund has raised millions of dollars through thousands of community efforts to help save lives ad give hope to cancer patients around the world.\n\n \n\n \n\nThank you for your support!\n\nJohn & Tatum Krause\n\nTeam John Foundation\, Inc.
X-ALT-DESC;FMTTYPE=text/html:<h3>Team John Foundation Charity Golf Event - 2024</h3>\n\n<p><a href="https://www.teamjohn.org/" style="box-sizing: border-box\; color: rgb(13\, 110\, 253)\; text-decoration-line: none\;" target="_blank">Team John Foundation</a></p>\n\n<hr />\n<div>\n<h1>Please join us for the Team John Foundation Charity Golf Event\, being held on Friday\, October 4\, 2024!</h1>\n\n<p>&nbsp\;</p>\n\n<div>&nbsp\;</div>\n\n<div>We will be giving a $50 discount per golfer up to 110 golfers ($200 off of a foursome). The price with the discount is the same as last year ($250 single/$1000 foursome). Foursomes will not be reserved and must be paid for in order to secure your spot!&nbsp\;</div>\n\n<div>&nbsp\;</div>\n\n<div>\n<div><u><em>Tournament Features</em></u></div>\n\n<div>Exclusive Private Golf Course\, Driving Range\, 18 Hole Scramble\,&nbsp\; Drinks &amp\; Snacks on the course\, Lunch\, Dinner &amp\; Open Bar Plenty of Contests...Long Drive\, Men&#39\;s &amp\; Women&#39\;s\, Closest to the Pin\, Putting Contest and more!!</div>\n\n<div>&nbsp\;</div>\n\n<div>\n<div><u><em>Schedule</em></u></div>\n\n<div>Come early enough (9am) to use the driving range (included)&nbsp\;</div>\n\n<div>9 am Registration</div>\n\n<div>10 am Shotgun</div>\n\n<div>3 pm Buffet /2 hour open bar\, Raffle &amp\; Silent Auction</div>\n</div>\n\n<div>&nbsp\;</div>\n\n<div>\n<div><u><em>Team John Foundation</em></u></div>\n\n<div>Team John Foundation&#39\;s Mission is to help those that fall into crisis. Not only when someone is diagnosed with cancer but also for any immediate crisis where a loved one is lost or displaced due to sudden illness or accident.&nbsp\;</div>\n\n<div>&nbsp\;</div>\n\n<div>&nbsp\;</div>\n\n<div><em>This golf tournament will also help fund the great missions of The Leukemia &amp\; Lymphoma Society of Greater CT &amp\; The Jimmy Fund.</em></div>\n</div>\n\n<div>&nbsp\;</div>\n\n<div>\n<div><u><em>The Leukemia &amp\; Lymphoma Society</em></u></div>\n\n<div>Cure Leukemia\, Lymphoma\, Hodgkin&#39\;s Disease and Myeloma\, and improve the quality of life of the patients and their families.</div>\n\n<div>&nbsp\;</div>\n\n<div><u><em>The Jimmy Fund</em></u></div>\n\n<div>The Jimmy Fund solely supports the fight against cancer at Dana-Farber. Since its founding in 1948\, the Jimmy Fund has raised millions of dollars through thousands of community efforts to help save lives ad give hope to cancer patients around the world.</div>\n\n<div>&nbsp\;</div>\n\n<div>&nbsp\;</div>\n\n<div><em>Thank you for your support!</em></div>\n\n<div><em>John &amp\; Tatum Krause</em></div>\n\n<div><em>Team John Foundation\, Inc.</em></div>\n</div>\n</div>\n</div>\n
LOCATION:Tumble Brook Country Club Bloomfield\, CT 06002
UID:e.3150.13016
SEQUENCE:3
DTSTAMP:20260424T134516Z
URL:https://business.whchamber.com/events/details/team-john-foundation-golf-tourn-13016
END:VEVENT

END:VCALENDAR
