BEGIN:VCALENDAR
VERSION:2.0
PRODID:-//ChamberMaster//Event Calendar 2.0//EN
METHOD:PUBLISH
X-PUBLISHED-TTL:P3D
REFRESH-INTERVAL:P3D
CALSCALE:GREGORIAN
BEGIN:VEVENT
DTSTART:20230627T150000Z
DTEND:20230627T160000Z
X-MICROSOFT-CDO-ALLDAYEVENT:FALSE
SUMMARY:TD Bank - Developing A Business Plan Part 1
DESCRIPTION:This workshop is intended for business owners who want to develop a business plan to start or grow their business.
X-ALT-DESC;FMTTYPE=text/html:This workshop is intended for business owners who want to develop a business plan to start or grow their business.
LOCATION:MS Teams ________________________________________________________________________________ Microsoft Teams meeting Join on your computer\, mobile app or room device Click here to join the meeting Meeting ID: 273 719 006 827 Passcode: vh7Kde Download Teams | Join on the web Join with a video conferencing device td@m.webex.com Video Conference ID: 113 785 810 0 Alternate VTC instructions Or call in (audio only) +1 929-688-4010\,\,80733305# United States\, New York City Phone Conference ID: 807 333 05# Find a local number | Reset PIN Learn More | Meeting options ________________________________________________________________________________
UID:e.3150.12584
SEQUENCE:3
DTSTAMP:20260425T132818Z
URL:https://business.whchamber.com/events/details/td-bank-developing-a-business-plan-part-1-12584
END:VEVENT

END:VCALENDAR
