BEGIN:VCALENDAR
VERSION:2.0
PRODID:-//ChamberMaster//Event Calendar 2.0//EN
METHOD:PUBLISH
X-PUBLISHED-TTL:P3D
REFRESH-INTERVAL:P3D
CALSCALE:GREGORIAN
BEGIN:VEVENT
DTSTART:20240813T150000Z
DTEND:20240813T160000Z
X-MICROSOFT-CDO-ALLDAYEVENT:FALSE
SUMMARY:TD Bank - Developing A Business Plan
DESCRIPTION:This workshop is intended for business owners who want to develop a business plan to start or grow their business.
X-ALT-DESC;FMTTYPE=text/html:This workshop is intended for business owners who want to develop a business plan to start or grow their business.
LOCATION:MS Teams ________________________________________________________________________________ Microsoft Teams Need help? Join the meeting now Meeting ID: 216 862 725 705 Passcode: 9HUzXX Dial in by phone +1 929-688-4010\,\,731416631# United States\, New York City Find a local number Phone conference ID: 731 416 631# Join on a video conferencing device Tenant key: td@m.webex.com Video ID: 113 244 404 1 More info
UID:e.3150.15044
SEQUENCE:3
DTSTAMP:20260424T162911Z
URL:https://business.whchamber.com/events/details/td-bank-developing-a-business-plan-15044
END:VEVENT

END:VCALENDAR
