BEGIN:VCALENDAR
VERSION:2.0
PRODID:-//ChamberMaster//Event Calendar 2.0//EN
METHOD:PUBLISH
X-PUBLISHED-TTL:P3D
REFRESH-INTERVAL:P3D
CALSCALE:GREGORIAN
BEGIN:VEVENT
DTSTART:20260215T160000Z
DTEND:20260215T213000Z
X-MICROSOFT-CDO-ALLDAYEVENT:FALSE
SUMMARY:Taste of Wellness
DESCRIPTION:The Taste of Wellness includes a 'round-robin' style event where you will visit wellness stations: massage\, assisted stretching\, mini-facial\, BioMat\, tarot reading\, laser-focused life coaching session. Between your scheduled moments\, we invite you to relax in meditation or creativity. Healthy snacks will be provided. Register before February 1st to receive reduced\, early registration $199. Use code EARLYTASTE
X-ALT-DESC;FMTTYPE=text/html:<span style="color:rgb(0\, 0\, 0)\; font-family:raleway\,helvetica neue\,helvetica\,arial\,sans-serif\; font-size:16px">The Taste of Wellness includes a &#39\;round-robin&#39\; style event where you will visit wellness stations: massage\, assisted stretching\, mini-facial\, BioMat\, tarot reading\, laser-focused life coaching session. Between your scheduled moments\, we invite you to relax in meditation or creativity. Healthy snacks will be provided. Register before February 1st to receive reduced\, early registration $199. Use code EARLYTASTE</span>
LOCATION:Balance Massage & Wellness Center 135 Day St Newington\, CT 06111
UID:e.3150.16995
SEQUENCE:3
DTSTAMP:20260425T170852Z
URL:https://business.whchamber.com/events/details/taste-of-wellness-16995
END:VEVENT

END:VCALENDAR
