BEGIN:VCALENDAR
VERSION:2.0
PRODID:-//ChamberMaster//Event Calendar 2.0//EN
METHOD:PUBLISH
X-PUBLISHED-TTL:P3D
REFRESH-INTERVAL:P3D
CALSCALE:GREGORIAN
BEGIN:VEVENT
DTSTART:20240622T160000Z
DTEND:20240623T010000Z
X-MICROSOFT-CDO-ALLDAYEVENT:FALSE
SUMMARY:Swing Fore Special Olympics CT
DESCRIPTION:Swing Fore Special Olympics CT is a golf tournament\, this being the 11th annual\, that benefits local Special Olympics programs including West Hartford.. To date\, the event has raised over $80\,000 for local SOCT programs.
X-ALT-DESC;FMTTYPE=text/html:Swing Fore Special Olympics CT is a golf tournament\, this being the 11th annual\, that benefits local Special Olympics programs including West Hartford.. To date\, the event has raised over $80\,000 for local SOCT programs.
LOCATION:Southington Country Club 150 Savage Road Southington\, CT 06489
UID:e.3150.12809
SEQUENCE:3
DTSTAMP:20260424T193437Z
URL:https://business.whchamber.com/events/details/swing-fore-special-olympics-ct-12809
END:VEVENT

END:VCALENDAR
