BEGIN:VCALENDAR
VERSION:2.0
PRODID:-//ChamberMaster//Event Calendar 2.0//EN
METHOD:PUBLISH
X-PUBLISHED-TTL:P3D
REFRESH-INTERVAL:P3D
CALSCALE:GREGORIAN
BEGIN:VEVENT
DTSTART:20260321T143000Z
DTEND:20260321T160000Z
X-MICROSOFT-CDO-ALLDAYEVENT:FALSE
SUMMARY:Sweat For The Arts presented by Arts for Learning CT and Viking Athletics
DESCRIPTION:Join us for Sweat for the Arts\, a high-energy workout experience that brings together movement\, live music\, and community\, all in support of arts learning for students in Connecticut.\n\n \n\nHosted at Viking Athletics\, this special event invites supporters from the general public to take part in a guided workout set to live music performed by Arts for Learning Connecticut Teaching Artists Universal Sounds. It's a unique opportunity to sweat with purpose while supporting arts learning in Connecticut's schools.?\n\n \n\nAfter the workout\, we invite you to stay for a casual social hour to connect with fellow participants and celebrate the impact we're making together.\n\n \n\nSaturday\, March 21\n\n10:30 AM\n\nViking Athletics\, 433 New Park Avenue in West Hartford\, CT\n\n \n\nBring a friend\, invite your training partners\, and help us pack the gym. Every participant helps expand access to meaningful arts learning experiences for local students.\n\n \n\nRegister via the link below and we'll see you there!\n\nhttps://tinyurl.com/463c7j23
X-ALT-DESC;FMTTYPE=text/html:<div>Join us for <strong>Sweat for the Arts</strong>\, a high-energy workout experience that brings together movement\, live music\, and community\, all in support of arts learning for students in Connecticut.<br />\n&nbsp\;</div>\n\n<div>Hosted at <a href="https://vikingathletics.net/">Viking Athletics</a>\, this special event invites supporters from the general public to take part in a guided workout set to live music performed by&nbsp\;<a href="http://www.aflct.org">Arts for Learning Connecticut</a> Teaching Artists <a href="https://directory.aflct.org/artists/UniversalSounds">Universal Sounds</a>. It&rsquo\;s a unique opportunity to sweat with purpose while supporting arts learning in Connecticut&rsquo\;s schools.?<br />\n&nbsp\;</div>\n\n<div>After the workout\, we invite you to stay for a casual social hour to connect with fellow participants and celebrate the impact we&rsquo\;re making together.<br />\n&nbsp\;</div>\n\n<div>Saturday\, March 21<br />\n10:30 AM<br />\nViking Athletics\, 433 New Park Avenue in West Hartford\, CT<br />\n&nbsp\;</div>\n\n<div>Bring a friend\, invite your training partners\, and help us pack the gym. Every participant helps expand access to meaningful arts learning experiences for local students.<br />\n&nbsp\;</div>\n\n<div>Register via the link below and we&#39\;ll see you there!</div>\n\n<p>https://tinyurl.com/463c7j23</p>\n
LOCATION:Viking Athletics\, 433 New Park Avenue in West Hartford\, CT
UID:e.3150.17079
SEQUENCE:3
DTSTAMP:20260425T155300Z
URL:https://business.whchamber.com/events/details/sweat-for-the-arts-presented-by-arts-for-learning-ct-and-viking-athletics-17079
END:VEVENT

END:VCALENDAR
