BEGIN:VCALENDAR
VERSION:2.0
PRODID:-//ChamberMaster//Event Calendar 2.0//EN
METHOD:PUBLISH
X-PUBLISHED-TTL:P3D
REFRESH-INTERVAL:P3D
CALSCALE:GREGORIAN
BEGIN:VEVENT
DTSTART:20250427T130000Z
DTEND:20250427T173000Z
X-MICROSOFT-CDO-ALLDAYEVENT:FALSE
SUMMARY:Superhero Sunday: 5K\, Kids Mile and Community Bash
DESCRIPTION:Connecticut Children's Foundation\, in partnership with Ball 4 a Cure\, invite you to channel your superpowers at the 3rd Edition Superhero Sunday 5K\, Kids Mile & Community Bash on April 27\, 2025 at Cove Park in Wethersfield\, CT!\n\n \n\nSuperhero Sunday is a family-friendly\, action-packed community event complete with superhero surprises\, adventure stations\, fun activities\, music and more. It celebrates truly remarkable superheroes - Connecticut Children's brave and courageous patients\, families and team members.  All 5K and Kids Mile participants will receive a finishers medal and participant t-shirt. Also every attendee will receive keepsake comic book to explore the event and immerse themselves in the fun.\n\n \n\nThis event raises critical funds for the Greatest Need Children's Fund at Connecticut Children's\, which allows us to meet the immediate medical\, emotional and social health care needs of our patients and their families. The Greatest Need Children's Fund does it all.\n\n \n\nCome run\, walk or roll with us! The 5K and Kids Mile course is fully paved and accessible for attendees of all abilities\, strollers and wheelchairs. \n\n \n\nCome experience the incredible community we are proud to serve.
X-ALT-DESC;FMTTYPE=text/html:<span style="font-size:10.0pt">Connecticut Children&#39\;s Foundation\, in partnership with Ball 4 a Cure\, invite you to channel your superpowers at the 3rd Edition Superhero Sunday 5K\, Kids Mile &amp\; Community Bash on April 27\, 2025 at Cove Park in Wethersfield\, CT!</span><br />\n&nbsp\;<br />\n<span style="font-size:10.0pt">Superhero Sunday is a family-friendly\, action-packed community event complete with superhero surprises\, adventure stations\, fun activities\, music and more. It celebrates truly remarkable superheroes - Connecticut Children&#39\;s brave and courageous patients\, families and team members. &nbsp\;All 5K and Kids Mile participants will receive a finishers medal and participant t-shirt. Also every attendee will receive keepsake comic book to explore the event and immerse themselves in the fun.</span><br />\n&nbsp\;<br />\n<span style="font-size:10.0pt">This event raises critical funds for the Greatest Need Children&#39\;s Fund at Connecticut Children&rsquo\;s\, which allows us to meet the immediate medical\, emotional and social health care needs of our patients and their families. The Greatest Need Children&rsquo\;s Fund does it all.</span><br />\n&nbsp\;<br />\n<span style="font-size:10.0pt">Come run\, walk or roll with us! The 5K and Kids Mile course is fully paved and accessible for attendees of all abilities\, strollers and wheelchairs.&nbsp\;</span><br />\n&nbsp\;<br />\n<span style="font-size:10.0pt">Come experience the incredible community we are proud to serve.</span>
LOCATION:Cove Park in Wethersfield\, Connecticut
UID:e.3150.15895
SEQUENCE:3
DTSTAMP:20260424T070219Z
URL:https://business.whchamber.com/events/details/superhero-sunday-5k-kids-mile-and-community-bash-15895
END:VEVENT

END:VCALENDAR
