BEGIN:VCALENDAR
VERSION:2.0
PRODID:-//ChamberMaster//Event Calendar 2.0//EN
METHOD:PUBLISH
X-PUBLISHED-TTL:P3D
REFRESH-INTERVAL:P3D
CALSCALE:GREGORIAN
BEGIN:VEVENT
DTSTART:20240421T044000Z
DTEND:20240421T170000Z
X-MICROSOFT-CDO-ALLDAYEVENT:FALSE
SUMMARY:Sunday Brunch at Auerfarm with Distinctive Ideas
DESCRIPTION:Join Distinctive Ideas at Auerfarm for a fantastic Sunday Brunch. \n\n\n\nSunday April 21st\n\n9:30 am & 11 am seatings\n\n\n\nEnjoy picturesque farm views during a farm to table brunch.
X-ALT-DESC;FMTTYPE=text/html:Join Distinctive Ideas at Auerfarm for a fantastic Sunday Brunch.&nbsp\;<br />\n<br />\nSunday April 21st<br />\n9:30 am &amp\; 11 am seatings<br />\n<br />\nEnjoy picturesque farm views during a farm to table brunch.
LOCATION:Auerfarm 158 Auer Farm Rd\, Bloomfield\, CT 06002
UID:e.3150.12978
SEQUENCE:3
DTSTAMP:20260424T210125Z
URL:https://business.whchamber.com/events/details/sunday-brunch-at-auerfarm-with-distinctive-ideas-12978
END:VEVENT

END:VCALENDAR
