BEGIN:VCALENDAR
VERSION:2.0
PRODID:-//ChamberMaster//Event Calendar 2.0//EN
METHOD:PUBLISH
X-PUBLISHED-TTL:P3D
REFRESH-INTERVAL:P3D
CALSCALE:GREGORIAN
BEGIN:VEVENT
DTSTART:20240622T160000Z
DTEND:20240622T200000Z
X-MICROSOFT-CDO-ALLDAYEVENT:FALSE
SUMMARY:Summer Pop Up Shop
DESCRIPTION:Get ready for a fun-filled day at Warehouse 635's Summer Pop Up Shop!\n\n\n\nMark your calendars and join us for an exciting day of creativity and talent from local small businesses\, artists\, and vendors. Wander through a vibrant marketplace of unique art\, handmade crafts\, food\, refreshing drinks and so much more! It's the perfect way to kick off the summer season\, support our community and find one-of-a-kind treasures. \n\n \n\nCALLING ALL VENDORS:  The Summer Pop Up Shop has openings for you! This is an amazing opportunity to showcase your unique products and connect with a crowd eager to discover new favorites. Whether you're an artist\, a foodie\, or a craftsperson\, this event is the perfect platform to grow your business and gain valuable exposure. Interested vendors can learn more and secure a spot by contacting us at info@warehouse635.com Don't miss out on the chance to be part of this exciting summer event!
X-ALT-DESC;FMTTYPE=text/html:<p>Get ready for a fun-filled day at Warehouse 635&#39\;s Summer Pop Up Shop!<br />\n<br />\nMark your calendars and join us for an exciting day of creativity and talent from local small businesses\, artists\, and vendors. Wander through a vibrant marketplace of unique art\, handmade crafts\, food\, refreshing drinks and so much more! It&rsquo\;s the perfect way to kick off the summer season\, support our community and find one-of-a-kind treasures.&nbsp\;<br />\n&nbsp\;</p>\n\n<p>CALLING ALL VENDORS:&nbsp\; The Summer Pop Up Shop has openings for you! This is an amazing opportunity to showcase your unique products and connect with a crowd eager to discover new favorites. Whether you&#39\;re an artist\, a foodie\, or a craftsperson\, this event is the perfect platform to grow your business and gain valuable exposure. Interested vendors can learn more and secure a spot by contacting us at<strong> info@warehouse635.com</strong> Don&#39\;t miss out on the chance to be part of this exciting summer event!</p>\n
LOCATION:Warehouse 635 635 New Park Ave West Hartford\, CT 06110
UID:e.3150.13009
SEQUENCE:3
DTSTAMP:20260424T181138Z
URL:https://business.whchamber.com/events/details/summer-pop-up-shop-13009
END:VEVENT

END:VCALENDAR
