BEGIN:VCALENDAR
VERSION:2.0
PRODID:-//ChamberMaster//Event Calendar 2.0//EN
METHOD:PUBLISH
X-PUBLISHED-TTL:P3D
REFRESH-INTERVAL:P3D
CALSCALE:GREGORIAN
BEGIN:VEVENT
DTSTART:20230624T140000Z
DTEND:20230624T200000Z
X-MICROSOFT-CDO-ALLDAYEVENT:FALSE
SUMMARY:Studio 310 Open House
DESCRIPTION:We're excited to show you our new studio space\, introduce you to our trainers\, and help you enjoy your fitness journey with FREE group classes.\n\n\n	Tour our brand new studio\n	Meet our personal trainers\n	Free group classes with our instructors\n	Opportunities to win a free training session or class\n	Refuel after your free workouts with FREE Pizza from Disco Forno Pizza Truck and cookies from Bake Bake Hooray Cookie truck!\n\n\nFREE GROUP FITNESS CLASSES -- Save your spot here: https://bit.ly/S310FreeClasses\n\n\n	10am - Yoga with Kate (indoors\, limited to 20 people)\n	11am - Turn Up & POUND with Aliyah (outdoors)\n	1pm - Zumba with Alexa (outdoors)\n	2pm - POUND with Laura\n\n\nVisit our website for more information on our fitness cooperative that offers personal training\, semi-private training\, and group fitness classes: studio310ct.com
X-ALT-DESC;FMTTYPE=text/html:<p>We&#39\;re excited to show you our new studio space\, introduce you to our trainers\, and help you enjoy your fitness journey with FREE group classes.</p>\n\n<ul>\n	<li>Tour our brand new studio</li>\n	<li>Meet our personal trainers</li>\n	<li>Free group classes with our instructors</li>\n	<li>Opportunities to win a free training session or class</li>\n	<li>Refuel after your free workouts with FREE Pizza from Disco Forno Pizza Truck and cookies from Bake Bake Hooray Cookie truck!</li>\n</ul>\n\n<p><strong>FREE GROUP FITNESS CLASSES&nbsp\;</strong>-- Save your spot here: <a href="https://bit.ly/S310FreeClasses">https://bit.ly/S310FreeClasses</a></p>\n\n<ul>\n	<li><strong>10am - Yoga with Kate (indoors\, limited to 20 people)</strong></li>\n	<li><strong>11am - Turn Up &amp\; POUND with Aliyah (outdoors)</strong></li>\n	<li><strong>1pm - Zumba with Alexa (outdoors)</strong></li>\n	<li><strong>2pm - POUND with Laura</strong></li>\n</ul>\n\n<p>Visit our website for more information on our fitness cooperative that offers personal training\, semi-private training\, and group fitness classes: <a href="https://studio310ct.com">studio310ct.com</a></p>\n
LOCATION:Studio 310 310R Newington Rd\, West Hartford\, CT
UID:e.3150.12599
SEQUENCE:3
DTSTAMP:20260425T132741Z
URL:https://business.whchamber.com/events/details/studio-310-open-house-12599
END:VEVENT

END:VCALENDAR
