BEGIN:VCALENDAR
VERSION:2.0
PRODID:-//ChamberMaster//Event Calendar 2.0//EN
METHOD:PUBLISH
X-PUBLISHED-TTL:P3D
REFRESH-INTERVAL:P3D
CALSCALE:GREGORIAN
BEGIN:VEVENT
DTSTART:20250129T233000Z
DTEND:20250130T003000Z
X-MICROSOFT-CDO-ALLDAYEVENT:FALSE
SUMMARY:Stop the Bleed Training
DESCRIPTION:Free Community Training for adults ages 18+ Stop The Bleed Training 2025 Wednesday\, January 29 at the Mandell JCC | Two times offered: 1:00pm or 6:30pm This training provides community members ages 18+ with the skills of how to prevent loss of life through applying emergency first aid. Learning Objectives: -Understand why bleeding is the #1 preventable death after an injury and how to save a life -Identify when life threatening bleeding is occurring -Be able to recognize different types of injuries -Learn how to control bleeding when someone is injured and while waiting for first responders to arrive Please RSVP by Tuesday\, January 27 We kindly request that all adult guests provide a current photo ID upon check-in.
X-ALT-DESC;FMTTYPE=text/html:Free Community Training for adults ages 18+ Stop The Bleed Training 2025 Wednesday\, January 29 at the Mandell JCC | Two times offered: 1:00pm or 6:30pm This training provides community members ages 18+ with the skills of how to prevent loss of life through applying emergency first aid. Learning Objectives: -Understand why bleeding is the #1 preventable death after an injury and how to save a life -Identify when life threatening bleeding is occurring -Be able to recognize different types of injuries -Learn how to control bleeding when someone is injured and while waiting for first responders to arrive Please RSVP by Tuesday\, January 27 We kindly request that all adult guests provide a current photo ID upon check-in.
LOCATION:Mandell JCC 335 Bloomfield Ave West Hartford\, CT 06117
UID:e.3150.15819
SEQUENCE:3
DTSTAMP:20260424T053457Z
URL:https://business.whchamber.com/events/details/stop-the-bleed-training-01-29-2025-15819
END:VEVENT

END:VCALENDAR
