BEGIN:VCALENDAR
VERSION:2.0
PRODID:-//ChamberMaster//Event Calendar 2.0//EN
METHOD:PUBLISH
X-PUBLISHED-TTL:P3D
REFRESH-INTERVAL:P3D
CALSCALE:GREGORIAN
BEGIN:VEVENT
DTSTART:20220617T150000Z
DTEND:20220617T160000Z
X-MICROSOFT-CDO-ALLDAYEVENT:FALSE
SUMMARY:Social Security Panel Discussion
DESCRIPTION:It is my pleasure to invite you to join me\, Congressman John Larson\, Acting Commissioner Kilolo Kijakazi of the U.S. Social Security Administration\, and Kathleen Kennedy Townsend\, U.S. Secretary of Labor's Representative for Pensions and Retirement\, for the second in a national series of conversations to discuss solutions to the retirement crisis.   \n\n \n\nThis special gathering will take place on Friday\, June 17\, 11:00 a.m. at the Hartford Public Library's Center for Contemporary Culture\, 500 Main Street\, Hartford\, CT.\n\n \n\nAccording to the National Institute on Retirement Security\, 57% of working age Americans do not own any retirement account assets. The way our nation approaches retirement savings needs to be improved\, both at the state and national levels. Everyone\, regardless of where they work or how much they earn\, should be able to save easily and be able to take those savings from job to job\, so all can retire with dignity. Retirement reform will take hard work\, imagination\, and innovation from all those involved. \n\n \n\nThis event will include a panel presentation and audience participation. Please feel free to send questions in advance and let us know if you will join us by contacting David Radcliffe at David.radcliffe@ct.gov or 203-514-8893.\n\n \n\nThank you in advance for your contributions to this important issue.\n\n \n\nShawn T. Wooden\n\nConnecticut State Treasurer
X-ALT-DESC;FMTTYPE=text/html:<span style="border:none windowtext 1.0pt\;padding:0in\;"><span style="color:black\;"><span style="font-family:calibri\,sans-serif\;">It is my pleasure to invite you to join me\, Congressman John Larson\, Acting Commissioner Kilolo Kijakazi of the U.S. Social Security Administration\, and Kathleen Kennedy Townsend\,&nbsp\;U.S. Secretary of Labor&#39\;s<span style="background:white\;">&nbsp\;Representative for Pensions and Retirement\,&nbsp\;f</span>or the second in a national series of&nbsp\;conversations to discuss solutions to the retirement crisis.&nbsp\; &nbsp\;</span></span></span><br />\n&nbsp\;<br />\n<span style="border:none windowtext 1.0pt\;padding:0in\;background:white\;"><span style="color:black\;"><span style="font-family:calibri\,sans-serif\;">This special gathering will take place on&nbsp\;<strong>Friday\, June 17\, 11:00 a.m.&nbsp\;at&nbsp\;the Hartford Public Library&#39\;s Center for Contemporary Culture\, 500 Main Street\, Hartford\, CT.</strong></span></span></span><br />\n&nbsp\;<br />\n<span style="color:black\;">According to the National Institute on Retirement Security\, 57% of working age Americans do not own any retirement account assets. </span><span style="border:none windowtext 1.0pt\;padding:0in\;"><span style="color:black\;">The&nbsp\;way our nation approaches retirement savings needs to be improved\, both at the state and national levels. Everyone\, regardless of where they work or how much they earn\, should be able to save easily and be able to take those savings from job to job\, so all can retire with dignity. Retirement reform will take hard work\, imagination\, and innovation from all those involved. </span></span><br />\n&nbsp\;<br />\n<span style="border:none windowtext 1.0pt\;padding:0in\;"><span style="color:black\;"><span style="font-family:calibri\,sans-serif\;">This event will include a panel presentation and audience participation. Please feel free to send questions in advance and let us know if you will join us by contacting&nbsp\;David Radcliffe at </span></span></span><span style="color:black\;"><a href="mailto:David.radcliffe@ct.gov"><span style="border:none windowtext 1.0pt\;padding:0in\;"><span style="color:#00B0F0\;"><span style="font-family:calibri\,sans-serif\;">David.radcliffe@ct.gov</span></span></span></a></span> <span style="border:none windowtext 1.0pt\;padding:0in\;"><span style="color:black\;"><span style="font-family:calibri\,sans-serif\;">or 203-514-8893.</span></span></span><br />\n&nbsp\;<br />\n<span style="border:none windowtext 1.0pt\;padding:0in\;"><span style="color:black\;"><span style="font-family:calibri\,sans-serif\;">Thank you in advance for your contributions to this important issue.</span></span></span><br />\n&nbsp\;<br />\n<span style="border:none windowtext 1.0pt\;padding:0in\;"><span style="color:black\;"><span style="font-family:calibri\,sans-serif\;">Shawn T. Wooden</span></span></span><br />\n<span style="border:none windowtext 1.0pt\;padding:0in\;"><span style="color:black\;"><span style="font-family:calibri\,sans-serif\;">Connecticut State Treasurer</span></span></span>
LOCATION:Hartford Public Library's Center for Contemporary Culture\, 500 Main Street\, Hartford\, CT.
UID:e.3150.9481
SEQUENCE:3
DTSTAMP:20260426T023050Z
URL:https://business.whchamber.com/events/details/social-security-panel-discussion-9481
END:VEVENT

END:VCALENDAR
