BEGIN:VCALENDAR
VERSION:2.0
PRODID:-//ChamberMaster//Event Calendar 2.0//EN
METHOD:PUBLISH
X-PUBLISHED-TTL:P3D
REFRESH-INTERVAL:P3D
CALSCALE:GREGORIAN
BEGIN:VEVENT
DTSTART:20220308T223000Z
DTEND:20220309T003000Z
X-MICROSOFT-CDO-ALLDAYEVENT:FALSE
SUMMARY:Selling Made Easy - Tips to Sell Your Home in this Sellers' Market
DESCRIPTION:Free Catered Seminar at Rockledge Grille.  Registration is a must. Please register here: https://fb.me/e/1kT4vd3gd.  Or email me directly to confirm attendance\, JCoscia@BrooksToddMcNeil.com\n\n-\n\nI wanted to personally invite you\, your friends\, colleagues\, or clients to a FREE workshop about listing your home in this fast-moving market. Who is this workshop for?  ANYONE thinking about selling within the next 18 months - it is not too early to prepare!  & ANYONE who wants a competitive advantage in this current market!  The demand is high\, the supply is low.  This is a sellers market!!\n\n \n\nI would truly appreciate it if you could share this registration link with your community. Sellers will learn ten proven tips on how to get the most value for their home. We will discuss staging with a local\, professional stager\; how to sell AND buy simultaneously\, and pricing strategies in today's market.
X-ALT-DESC;FMTTYPE=text/html:Free Catered Seminar at Rockledge Grille.&nbsp\; Registration is a must. Please register here:&nbsp\;https://fb.me/e/1kT4vd3gd.&nbsp\; Or email me directly to confirm attendance\, JCoscia@BrooksToddMcNeil.com<br />\n-<br />\nI wanted to personally invite you\, your friends\, colleagues\, or clients to a FREE workshop about listing your home in this fast-moving market. Who is this workshop for?&nbsp\; ANYONE thinking about selling within the next 18 months - it is not too early to prepare!&nbsp\; &amp\; ANYONE who wants a competitive advantage in this current market!&nbsp\; The demand is high\, the supply is low.&nbsp\; This is a sellers market!!<br />\n&nbsp\;<br />\nI would truly appreciate it if you could share this registration link with your community. Sellers will learn ten proven tips on how to get the most value for their home. We will discuss staging with a local\, professional stager\; how to sell AND buy simultaneously\, and pricing strategies in today&#39\;s market.<br />\n&nbsp\;
LOCATION:Rockledge Grille\, West Hartford.
UID:e.3150.9335
SEQUENCE:3
DTSTAMP:20260425T221302Z
URL:https://business.whchamber.com/events/details/selling-made-easy-tips-to-sell-your-home-in-this-sellers-market-9335
END:VEVENT

END:VCALENDAR
