BEGIN:VCALENDAR
VERSION:2.0
PRODID:-//ChamberMaster//Event Calendar 2.0//EN
METHOD:PUBLISH
X-PUBLISHED-TTL:P3D
REFRESH-INTERVAL:P3D
CALSCALE:GREGORIAN
BEGIN:VEVENT
DTSTART:20241022T150000Z
DTEND:20241022T160000Z
X-MICROSOFT-CDO-ALLDAYEVENT:FALSE
SUMMARY:Running a Profitable Company workshop
DESCRIPTION:This workshop examines how to run a profitable business with a healthy margin and how to analyze your company's profitability through ratios and some simple analytical procedures.
X-ALT-DESC;FMTTYPE=text/html:<span style="font-size:12px"><span style="font-family:arial\,helvetica\,sans-serif"><span style="color:#6A737B">This workshop examines how to run a profitable business with a healthy margin and how to analyze your company&rsquo\;s profitability through ratios and some simple analytical procedures.</span></span></span>
LOCATION:________________________________________________________________________________ Microsoft Teams Need help? Join the meeting now Meeting ID: 294 285 550 436 Passcode: d46QSM Dial in by phone +1 929-688-4010\,\,364810370# United States\, New York City Find a local number Phone conference ID: 364 810 370# Join on a video conferencing device Tenant key: td@m.webex.com Video ID: 115 882 006 8 More info
UID:e.3150.15046
SEQUENCE:3
DTSTAMP:20260424T134444Z
URL:https://business.whchamber.com/events/details/running-a-profitable-company-workshop-15046
END:VEVENT

END:VCALENDAR
