BEGIN:VCALENDAR
VERSION:2.0
PRODID:-//ChamberMaster//Event Calendar 2.0//EN
METHOD:PUBLISH
X-PUBLISHED-TTL:P3D
REFRESH-INTERVAL:P3D
CALSCALE:GREGORIAN
BEGIN:VEVENT
DTSTART:20241019T140000Z
DTEND:20241019T160000Z
X-MICROSOFT-CDO-ALLDAYEVENT:FALSE
SUMMARY:root2RiSEs' Community Farm Share Event
DESCRIPTION:Community Farm Share Event to Explore Sustainable Food Systems in West Hartford\n\nWest Hartford\, CT   Join root2RISE\, along with local farmers\, educators\, and artists\, on Saturday\, October 19\, 2024\, from 10 AM to 12 PM at the West Hartford Town Hall Parking Lot for the Community Farm Share Event (CFSE).  Through hands-on investigations into nature journaling and worm composting\, a cooking demo\, panel discussion and more\, participants will explore important questions:  What is a sustainable and just food system?  What could it look like in our community?\n\n \n\nroot2RISE is a local\, non-profit organization that is committed to cultivating relationships between people\, land and food. Through intentional education\, advocacy and action\, root2RISE works to provide space for conversations rooted in place\, culture and community.  The organization believes equitable access to land and healthy food leads the transformation toward resilient and sustainable communities.\n\n \n\nThe CFSE is inspired by the concept of Community Sponsored Agriculture (CSA) and this Fall everyone is invited to celebrate the season of harvest and all that comes from the land around us. root2RISE is once again offering advance ordering of Farm Shares featuring a selection of fresh\, local veggies\, apples\, herbal tea samples\, native plant seedlings and more - providing a delicious way to support local agriculture.\n\n\n\nFor more information and to reserve your Farm Share\, please visit www.root2risewh.org/events.
X-ALT-DESC;FMTTYPE=text/html:<h4><strong><span style="font-family:times new roman\,serif"><span style="font-size:13.5pt">Community Farm Share Event to Explore Sustainable Food Systems in West Hartford</span></span></strong><br />\n<span style="font-family:times new roman\,serif"><span style="font-size:13.5pt">West Hartford\, CT&nbsp\;&ndash\; Join root2RISE\, along with local farmers\, educators\, and artists\, on Saturday\, October 19\, 2024\, from 10 AM to 12 PM at the West Hartford Town Hall Parking Lot for the&nbsp\;Community Farm Share Event (CFSE).&nbsp\; Through hands-on investigations into nature journaling and worm composting\, a cooking demo\, panel discussion and more\, participants will explore important questions:&nbsp\;&nbsp\;<strong>What is a sustainable and just food system?&nbsp\; What could it look like in our community?</strong></span></span><br />\n&nbsp\;<br />\n<span style="font-family:times new roman\,serif"><span style="font-size:13.5pt">root2RISE is a local\, non-profit organization that is committed to cultivating relationships between people\, land and food. Through intentional education\, advocacy and action\, root2RISE works to provide&nbsp\;space for conversations rooted in place\, culture and community.&nbsp\;&nbsp\;The organization believes equitable access&nbsp\;to land and healthy food leads&nbsp\;the transformation toward resilient and sustainable communities.</span></span><br />\n&nbsp\;<br />\n<span style="font-family:times new roman\,serif"><span style="font-size:13.5pt">The CFSE is inspired by the concept of Community Sponsored Agriculture (CSA) and&nbsp\;this Fall everyone is invited to celebrate the season of harvest and all that comes from the land around us.&nbsp\;<strong>root2RISE</strong>&nbsp\;is once again offering advance ordering of Farm Shares featuring a selection of fresh\, local veggies\, apples\, herbal tea samples\, native plant seedlings and more - providing a delicious way to support local agriculture.</span></span><br />\n<br />\n<strong><span style="font-family:times new roman\,serif"><span style="font-size:13.5pt">For more information and to reserve your Farm Share\, please visit&nbsp\;</span></span></strong><a href="http://www.root2risewh.org/events" target="_blank"><strong><span style="color:#1155cc"><span style="font-family:times new roman\,serif"><span style="font-size:13.5pt">www.root2risewh.org/events</span></span></span></strong></a><strong><span style="font-family:times new roman\,serif"><span style="font-size:13.5pt">.</span></span></strong><br />\n&nbsp\;</h4>\n
LOCATION:West Hartford Town Hall Parking Lot
UID:e.3150.15719
SEQUENCE:3
DTSTAMP:20260424T134517Z
URL:https://business.whchamber.com/events/details/root2rises-community-farm-share-event-15719
END:VEVENT

END:VCALENDAR
