BEGIN:VCALENDAR
VERSION:2.0
PRODID:-//ChamberMaster//Event Calendar 2.0//EN
METHOD:PUBLISH
X-PUBLISHED-TTL:P3D
REFRESH-INTERVAL:P3D
CALSCALE:GREGORIAN
BEGIN:VEVENT
DTSTART:20220911T170500Z
DTEND:20220911T200000Z
X-MICROSOFT-CDO-ALLDAYEVENT:FALSE
SUMMARY:Ron Foley Foundation Day at the Hartford Yard Goats
DESCRIPTION:Cheer on the Hartford Yard Goats as they take on the Somerset Patriots.\n\nAll good fun in support of the Ron Foley Pancreatic Cancer Foundation.\n\nLimited tickets available!\n\n$8 of each $20 ticket sold will benefit the Ron Foley Foundation. \n\n Available tickets are in Field Box 103- just to the right of the visitor dugout.\n\nBest available seats will be assigned by the Foundation. \n\nTo purchase tickets\, please visit:  https://www.ronsrun.org/yard-goats-tickets\n\n You will receive an email copy of your ticket(s ) in September\n\nthat can be used for entry or you may present a printed copy.\n\nQuestions: please contact Judie@ronsrun.org or call the office at 860-521-0500.
X-ALT-DESC;FMTTYPE=text/html:<p style="text-align:center !important"><span style="font-size:16px"><span style="color:rgb(10\, 6\, 134)">Cheer on the Hartford Yard Goats as they take on the Somerset Patriots.<br>\nAll good fun in support of the Ron Foley Pancreatic Cancer Foundation.</span></span></p>\n\n<p style="text-align:center !important"><strong>Limited tickets available!</strong></p>\n\n<p style="text-align:center !important">$8 of each $20 ticket sold will benefit the Ron Foley Foundation.&nbsp\;</p>\n\n<p style="text-align:center !important">&nbsp\;Available tickets are in Field Box 103- just to the right of the visitor dugout.<br>\nBest available seats will be assigned by the Foundation.&nbsp\;<br>\nTo purchase tickets\, please visit:&nbsp\; <span style="color:#800080"><strong>https://www.ronsrun.org/yard-goats-tickets</strong></span></p>\n\n<p style="text-align:center !important">&nbsp\;You will receive an email copy of your ticket(s ) in September<br>\nthat can be used for entry or you may present a printed copy.<br>\nQuestions: please contact Judie@ronsrun.org or call the office at 860-521-0500.&nbsp\;</p>\n
LOCATION:Dunkin Donuts Stadium\, Hartford\, CT
UID:e.3150.11235
SEQUENCE:3
DTSTAMP:20260426T030634Z
URL:https://business.whchamber.com/events/details/ron-foley-foundation-day-at-the-hartford-yard-goats-11235
END:VEVENT

END:VCALENDAR
