BEGIN:VCALENDAR
VERSION:2.0
PRODID:-//ChamberMaster//Event Calendar 2.0//EN
METHOD:PUBLISH
X-PUBLISHED-TTL:P3D
REFRESH-INTERVAL:P3D
CALSCALE:GREGORIAN
BEGIN:VEVENT
DTSTART:20230427T163000Z
DTEND:20230427T171000Z
X-MICROSOFT-CDO-ALLDAYEVENT:FALSE
SUMMARY:Road to Retirement: Top 10 IRA Mistakes to Avoid (virtual presentation)
DESCRIPTION:Monthly Webinar: Join us for this month's webinar workshop to learn about unique IRA planning strategies and some of the most common mistakes avoid. We will be accompanied by Doug Orton from MFS Investment Management. Doug is a Business Development Consultant who has worked in the financial services industry since 1993\, holding roles in sales\, tax and compliance\, training and marketing.\n\n\n\nWebinar Registration Link
X-ALT-DESC;FMTTYPE=text/html:<span style="color:rgb(65\, 75\, 88)\; font-family:roboto regular\,-apple-system\,blinkmacsystemfont\,tahoma\,sans-serif\,apple color emoji\,segoe ui emoji\; font-size:14px">Monthly Webinar: Join us for this month&#39\;s webinar workshop to learn about unique IRA planning strategies and some of the most common mistakes avoid. We will be accompanied by Doug Orton from MFS Investment Management. Doug is a Business Development Consultant who has worked in the financial services industry since 1993\, holding roles in sales\, tax and compliance\, training and marketing.</span><br />\n<br />\n<span style="font-size:14px"><a href="https://janney.webex.com/weblink/register/r5a5bbd8697a9f7447533fa6369237b31">Webinar Registration Link</a></span><br />\n<br />\n<br />\n<br />\n&nbsp\;
LOCATION:Webinar Registration Link
UID:e.3150.12519
SEQUENCE:3
DTSTAMP:20260425T151801Z
URL:https://business.whchamber.com/events/details/road-to-retirement-top-10-ira-mistakes-to-avoid-virtual-presentation-12519
END:VEVENT

END:VCALENDAR
