BEGIN:VCALENDAR
VERSION:2.0
PRODID:-//ChamberMaster//Event Calendar 2.0//EN
METHOD:PUBLISH
X-PUBLISHED-TTL:P3D
REFRESH-INTERVAL:P3D
CALSCALE:GREGORIAN
BEGIN:VEVENT
DTSTART:20220421T160000Z
DTEND:20220421T170000Z
X-MICROSOFT-CDO-ALLDAYEVENT:FALSE
SUMMARY:Retirement Risk - Monthly Money Matters
DESCRIPTION:Why is addressing retirement risks so critical?\n\n\n\nThe same financial risks you might face today may have a greater impact during retirement. It is important to consider the risks you may face in retirement and understand how each risk can affect your retirement funding strategy.
X-ALT-DESC;FMTTYPE=text/html:<span style="color:rgb(102\, 102\, 102)\; font-family:helvetica neue\,helvetica\,arial\,sans-serif\; font-size:16px">Why is addressing retirement risks so critical?</span><br />\n<br />\n<span style="color:rgb(102\, 102\, 102)\; font-family:helvetica neue\,helvetica\,arial\,sans-serif\; font-size:16px">The same financial risks you might face today may have a greater impact during retirement. It is important to consider the risks you may face in retirement and understand how each risk can affect your retirement funding strategy.</span>
LOCATION:This is an online webinar!
UID:e.3150.9399
SEQUENCE:3
DTSTAMP:20260425T233925Z
URL:https://business.whchamber.com/events/details/retirement-risk-monthly-money-matters-9399
END:VEVENT

END:VCALENDAR
