BEGIN:VCALENDAR
VERSION:2.0
PRODID:-//ChamberMaster//Event Calendar 2.0//EN
METHOD:PUBLISH
X-PUBLISHED-TTL:P3D
REFRESH-INTERVAL:P3D
CALSCALE:GREGORIAN
BEGIN:VEVENT
DTSTART:20220616T160000Z
DTEND:20220616T170000Z
X-MICROSOFT-CDO-ALLDAYEVENT:FALSE
SUMMARY:Retirement Readiness - Monthly Money Matters
DESCRIPTION:When people think about preparing for retirement\, they generally think about retirement in terms of money- the money they have (or haven't yet) saved. However\, being prepared for retirement is about more than just what is in your financial portfolio. We'll discuss the financial\, organizational\, and emotional aspects of preparing for retirement.
X-ALT-DESC;FMTTYPE=text/html:<span style="color:rgb(102\, 102\, 102)\; font-family:helvetica neue\,helvetica\,arial\,sans-serif\; font-size:16px">When people think about preparing for retirement\, they generally think about retirement in terms of money- the money they have (or haven&#39\;t yet) saved. However\, being prepared for retirement is about more than just what is in your financial portfolio. We&#39\;ll discuss the financial\, organizational\, and emotional aspects of preparing for retirement.</span>
LOCATION:This is an online webinar!
UID:e.3150.9401
SEQUENCE:3
DTSTAMP:20260426T023325Z
URL:https://business.whchamber.com/events/details/retirement-readiness-monthly-money-matters-9401
END:VEVENT

END:VCALENDAR
