BEGIN:VCALENDAR
VERSION:2.0
PRODID:-//ChamberMaster//Event Calendar 2.0//EN
METHOD:PUBLISH
X-PUBLISHED-TTL:P3D
REFRESH-INTERVAL:P3D
CALSCALE:GREGORIAN
BEGIN:VEVENT
DTSTART:20211106T000000Z
DTEND:20211106T013000Z
X-MICROSOFT-CDO-ALLDAYEVENT:FALSE
SUMMARY:RESTLESS MOUNTAIN BLUEGRASS BAND at Playhouse on Park
DESCRIPTION:Friday\, November 5\, 2021 at Playhouse On Park Spend a special evening with fellow supporters when Playhouse on Park features local favorites\, the Restless Mountain Bluegrass Band this autumn! This private appearance is donated by the band to celebrate the creativity and resilience that keeps one of Connecticut's finest local stages playing. Restless Mountain Bluegrass Band always offers a fun mix of traditional standards and entertaining classics that bring fond memories and a smile. From music stages to special occasions\, they'll entertain! Tickets & Info: https://playhouseonpark.org/web2/Season13/specialevents_RestlessMountainBand.html
X-ALT-DESC;FMTTYPE=text/html:Friday\, November 5\, 2021 at Playhouse On Park Spend a special evening with fellow supporters when Playhouse on Park features local favorites\, the Restless Mountain Bluegrass Band this autumn! This private appearance is donated by the band to celebrate the creativity and resilience that keeps one of Connecticut&#39\;s finest local stages playing. Restless Mountain Bluegrass Band always offers a fun mix of traditional standards and entertaining classics that bring fond memories and a smile. From music stages to special occasions\, they&#39\;ll entertain! Tickets &amp\; Info: https://playhouseonpark.org/web2/Season13/specialevents_RestlessMountainBand.html
LOCATION:Playhouse on Park 244 Park Rd West Hartford\, CT 06119
UID:e.3150.9227
SEQUENCE:3
DTSTAMP:20260425T164724Z
URL:https://business.whchamber.com/events/details/restless-mountain-bluegrass-band-at-playhouse-on-park-9227
END:VEVENT

END:VCALENDAR
