BEGIN:VCALENDAR
VERSION:2.0
PRODID:-//ChamberMaster//Event Calendar 2.0//EN
METHOD:PUBLISH
X-PUBLISHED-TTL:P3D
REFRESH-INTERVAL:P3D
CALSCALE:GREGORIAN
BEGIN:VEVENT
DTSTART:20230429T000000Z
DTEND:20230429T020000Z
X-MICROSOFT-CDO-ALLDAYEVENT:FALSE
SUMMARY:Restless Mountain Bluegrass Band at Playhouse on Park
DESCRIPTION:Spend a special evening with fellow supporters when Playhouse on Park features local favorites\, the Restless Mountain Bluegrass Band this autumn! This private appearance is donated by the band to celebrate the creativity and resilience that keeps one of Connecticut's finest local stages playing. Restless Mountain Bluegrass Band always offers a fun mix of traditional standards and entertaining classics that bring fond memories and a smile. From music stages to special occasions\, they'll entertain! Time: 8:00pm Doors Open: 7:00pm Cost: $25\, Reserved Seating BYOB Follow Restless Mountain Bluegrass Band on Facebook Instagram: #restlessmountainbluegrass
X-ALT-DESC;FMTTYPE=text/html:Spend a special evening with fellow supporters when Playhouse on Park features local favorites\, the Restless Mountain Bluegrass Band this autumn! This private appearance is donated by the band to celebrate the creativity and resilience that keeps one of Connecticut&#39\;s finest local stages playing. Restless Mountain Bluegrass Band always offers a fun mix of traditional standards and entertaining classics that bring fond memories and a smile. From music stages to special occasions\, they&#39\;ll entertain! Time: 8:00pm Doors Open: 7:00pm Cost: $25\, Reserved Seating BYOB Follow Restless Mountain Bluegrass Band on Facebook Instagram: #restlessmountainbluegrass
LOCATION:244 Park Road\, West Hartford\, CT
UID:e.3150.12532
SEQUENCE:3
DTSTAMP:20260425T151919Z
URL:https://business.whchamber.com/events/details/restless-mountain-bluegrass-band-at-playhouse-on-park-04-28-2023-12532
END:VEVENT

END:VCALENDAR
