BEGIN:VCALENDAR
VERSION:2.0
PRODID:-//ChamberMaster//Event Calendar 2.0//EN
METHOD:PUBLISH
X-PUBLISHED-TTL:P3D
REFRESH-INTERVAL:P3D
CALSCALE:GREGORIAN
BEGIN:VEVENT
DTSTART:20250201T150000Z
DTEND:20250201T171500Z
X-MICROSOFT-CDO-ALLDAYEVENT:FALSE
SUMMARY:Reset\, Restore\, Transform- Prepare to Change for 2025
DESCRIPTION:Don't give up on your Resolutions\, Goals\, Intentions for 2025!\n\nPursue how to be your own change agent.\n\nInner Release and Intention Setting Workshop\n\nStart the year with clarity and purpose! This workshop is designed to help you:\n\n? Clear old patterns that no longer serve you\n\n\n\n? Manifest the new with focused intention\n\nThrough the powerful combination of Auricular Acupuncture\, Reiki Energy\, Journaling and Meditation. You'll begin the process of change to create a renewed life.\n\nWe will experience Ear Acupuncture during this session. This process uses 5 small sterile needles on the cartilage of each ear. Alternatively\, you may use metal beads or seeds instead of needles. The protocol targets specific areas of the body for cleansing\, relaxation\, detoxification\, and more. It is a great way to release physically and emotionally to be ready to integrate new intentions/goals.\n\nRegistration requires the completion of a waiver form. Please contact Gina directly (203) 679-1771 if you identify with any of these conditions:\n\n\n	Pregnancy\n	Pacemaker\n	Diabetes\n	Blood Disorder\n	Hx of fainting or seizure.                                                                                                                           \n\nThese do not preclude participation but are important to identify. The waiver will be sent to you when you register.\n\nStep into 2025 with a fresh perspective. Let's reset together! ??
X-ALT-DESC;FMTTYPE=text/html:<h3 style="text-align: center\;"><strong>Don&#39\;t give up on your Resolutions\, Goals\, Intentions for 2025!</strong></h3>\n\n<h3 style="text-align: center\;"><strong>Pursue how to be your own change agent.</strong></h3>\n\n<p style="text-align: center\;"><strong>Inner Release and Intention Setting Workshop</strong></p>\n\n<p>Start the year with clarity and purpose! This workshop is designed to help you:</p>\n\n<p style="text-align: center\;">? <strong>Clear old patterns</strong> that no longer serve you<br />\n<br />\n? <strong>Manifest the new</strong> with focused intention</p>\n\n<p>Through the powerful combination of <strong>Auricular </strong><strong>Acupuncture</strong>\, <strong>Reiki Energy</strong>\, <strong>Journaling</strong> and <strong>Meditation</strong>. You&rsquo\;ll begin the process of change to create a renewed life.</p>\n\n<p><strong>We will experience Ear Acupuncture during this session. This process uses 5 small sterile needles on the cartilage of each ear. Alternatively\, you may use metal beads or seeds instead of needles.</strong><strong> The protocol targets specific areas of the body for cleansing\, relaxation\, detoxification\, and more. It is a great way to release physically and emotionally to be ready to integrate new intentions/goals.</strong></p>\n\n<p>Registration requires the completion of a waiver form. Please contact Gina directly (203) 679-1771 if you identify with any of these conditions:</p>\n\n<ul>\n	<li>Pregnancy</li>\n	<li>Pacemaker</li>\n	<li>Diabetes</li>\n	<li>Blood Disorder</li>\n	<li>Hx of fainting or seizure.&nbsp\; &nbsp\; &nbsp\; &nbsp\; &nbsp\; &nbsp\; &nbsp\; &nbsp\; &nbsp\; &nbsp\; &nbsp\; &nbsp\; &nbsp\; &nbsp\; &nbsp\; &nbsp\; &nbsp\; &nbsp\; &nbsp\; &nbsp\; &nbsp\; &nbsp\; &nbsp\; &nbsp\; &nbsp\; &nbsp\; &nbsp\; &nbsp\; &nbsp\; &nbsp\; &nbsp\; &nbsp\; &nbsp\; &nbsp\; &nbsp\; &nbsp\; &nbsp\; &nbsp\; &nbsp\; &nbsp\; &nbsp\; &nbsp\; &nbsp\; &nbsp\; &nbsp\; &nbsp\; &nbsp\; &nbsp\; &nbsp\; &nbsp\; &nbsp\; &nbsp\; &nbsp\; &nbsp\; &nbsp\; &nbsp\; &nbsp\; &nbsp\; &nbsp\; &nbsp\; &nbsp\; &nbsp\;</li>\n</ul>\n<strong>These do not preclude participation but are important to identify. The waiver will be sent to you when you register.</strong>\n\n<p>Step into 2025 with a fresh perspective. Let&rsquo\;s reset together! ??</p>\n
LOCATION:Bridge Healing Arts Center- The Awakening Room 304 Main Street\, Farmington\, CT https://bridgehac.com/
UID:e.3150.15801
SEQUENCE:3
DTSTAMP:20260424T041613Z
URL:https://business.whchamber.com/events/details/reset-restore-transform-prepare-to-change-for-2025-15801
END:VEVENT

END:VCALENDAR
