BEGIN:VCALENDAR
VERSION:2.0
PRODID:-//ChamberMaster//Event Calendar 2.0//EN
METHOD:PUBLISH
X-PUBLISHED-TTL:P3D
REFRESH-INTERVAL:P3D
CALSCALE:GREGORIAN
BEGIN:VEVENT
DTSTART:20240804T170000Z
DTEND:20240804T180000Z
X-MICROSOFT-CDO-ALLDAYEVENT:FALSE
SUMMARY:Reiki and Sound Healing Group Meditation
DESCRIPTION:Experience the power of Reiki! This is a community event utilizing Reiki Healing Energy\, Crystal and Tibetan Bowls and gentle guided meditation. Held at the peaceful Bridge Healing Arts Center. No experience needed\, just a desire to release into relaxation and peace. Bring a mat or use an available chair  This event is held monthly.\n\n\n\nRegistration is requested due to the limited number of spaces available. Please feel free to reach out with any questions about the session or about the process of a group Reiki Session. REGISTER HERE\n\nReiki alone is a powerful relaxation tool. By adding in the vibrations of the Healing Bowls\, the room becomes infused with sound creating an environment for peaceful meditation. \n\nThe full session will last an hour though there will be time at the end for questions and  comments. Please come 10 minutes early to find your comfortable space and settle in.  \n\nParking will be out back\, at the very last building. Drive around until you reach the end of the parking.  Use the rear ramp entrance and follow signs to the Awakening Room.\n\nAll Donations Accepted With Registration or On Site (Donation range $15-35): \n\n\n	via cash \n	Venmo @odonatareiki \n	Or via Credit Card or PayPal HERE
X-ALT-DESC;FMTTYPE=text/html:<p>Experience the power of Reiki! This is a community event utilizing Reiki Healing Energy\, Crystal and Tibetan Bowls and gentle guided meditation. Held at the peaceful Bridge Healing Arts Center. No experience needed\, just a desire to release into relaxation and peace. Bring a mat or use an available chair&nbsp\; This event is held monthly.<br />\n<br />\nRegistration is requested due to the limited number of spaces available. Please feel free to reach out with any questions about the session or about the process of a group Reiki Session. <a href="http://WWW.ODONATAREIKI.COM/EVENTS/reikisoundaugust">REGISTER HERE</a></p>\n\n<p>Reiki alone is a powerful relaxation tool. By adding in the vibrations of the Healing Bowls\, the room becomes infused with sound creating an environment for peaceful meditation.&nbsp\;</p>\n\n<p>The full session will last an hour though there will be time at the end for questions and &nbsp\;comments. Please come 10 minutes early to find your comfortable space and settle in. &nbsp\;</p>\n\n<p><strong>Parking will be out back\, at the very last building. Drive around until you reach the end of the parking. &nbsp\;Use the rear ramp entrance and follow signs to the Awakening Room.</strong></p>\n\n<p>All Donations Accepted With Registration or On Site (Donation range $15-35):&nbsp\;</p>\n\n<ul>\n	<li>via cash&nbsp\;</li>\n	<li>Venmo @odonatareiki&nbsp\;</li>\n	<li>Or via Credit Card or PayPal <a href="https://www.odonatareiki.com/payment-or-donation">HERE</a></li>\n</ul>\n
LOCATION:Bridge Healing Arts Center 304 Main Street Farmington CT
UID:e.3150.13019
SEQUENCE:3
DTSTAMP:20260424T152559Z
URL:https://business.whchamber.com/events/details/reiki-and-sound-healing-group-meditation-08-04-2024-13019
END:VEVENT

END:VCALENDAR
