BEGIN:VCALENDAR
VERSION:2.0
PRODID:-//ChamberMaster//Event Calendar 2.0//EN
METHOD:PUBLISH
X-PUBLISHED-TTL:P3D
REFRESH-INTERVAL:P3D
CALSCALE:GREGORIAN
BEGIN:VEVENT
DTSTART:20230426T140000Z
DTEND:20230426T180000Z
X-MICROSOFT-CDO-ALLDAYEVENT:FALSE
SUMMARY:Reentry Resource Fair
DESCRIPTION:FREE outdoor resource fair connecting returning citizens with community resources and local employers! If you're looking to hire\, this is your chance to meet with this untapped talent pool.
X-ALT-DESC;FMTTYPE=text/html:FREE outdoor resource fair connecting returning citizens with community resources and local employers! If you&#39\;re looking to hire\, this is your chance to meet with this untapped talent pool.&nbsp\;
LOCATION:Hartford Reentry Welcome Center 716 Windsor Street\, Hartford
UID:e.3150.12558
SEQUENCE:3
DTSTAMP:20260425T153752Z
URL:https://business.whchamber.com/events/details/reentry-resource-fair-12558
END:VEVENT

END:VCALENDAR
