BEGIN:VCALENDAR
VERSION:2.0
PRODID:-//ChamberMaster//Event Calendar 2.0//EN
METHOD:PUBLISH
X-PUBLISHED-TTL:P3D
REFRESH-INTERVAL:P3D
CALSCALE:GREGORIAN
BEGIN:VEVENT
DTSTART:20220107T130000Z
DTEND:20220107T140000Z
X-MICROSOFT-CDO-ALLDAYEVENT:FALSE
SUMMARY:Quest Information Session
DESCRIPTION:For an organization to enjoy sustained success post-pandemic\,\nit is essential to invest in talent and connect top performers to\nthe community. Quest unites high-performing mid-career\nprofessionals from many different sectors - nonprofit\,\ngovernment\, education\, business - around the idea of growing\nstronger together through collaborative leadership and social\nresponsibility.\n\nCompany and Organizational Impact:\n? Cultivate agile\, adaptive leaders that can improve your\norganizational culture and productivity\n? Enhance team dynamics and support company culture\n? Retain and further develop top talent\n? Affiliate your company with one of the country's most respected\ncommunity leadership organizations\nIndividual Benefits:\n? Expand leadership skills through dynamic trainings\n? Join a network of community driven leaders: approximately\n2\,250 Quest alumni and a LGH network of over 6\,000\nprofessionals\n? Develop relationships with key community stake holders\n? Engage in workshops about how to create more diverse\,\nequitable and inclusive environments\nFor our Community:\n? Develop stewards of community\n? Build community minded leaders in the region\n? Retain top talent to the region\nleadershipgh.\n\nOur signature Quest program adapts to the changing needs\nof leaders. In 2022\, the Quest program will host in-person\nexperiences and trainings that will challenge the next\ngeneration of Hartford leaders with workshops including\nFlexible & Agile Leadership\, Diversity\,\nEquity\, and Inclusion\, and Leadership Presence.\nAdditionally\, this experience will provide leaders with\nconnections during a time of extreme disconnect. For our\nHartford region\, the cultivation of leaders who are\nconnected to the Hartford community will be essential for\nour continued growth.
X-ALT-DESC;FMTTYPE=text/html:For an organization to enjoy sustained success post-pandemic\,\nit is essential to invest in talent and connect top performers to\nthe community. Quest unites high-performing mid-career\nprofessionals from many different sectors - nonprofit\,\ngovernment\, education\, business - around the idea of growing\nstronger together through collaborative leadership and social\nresponsibility.\n\nCompany and Organizational Impact:\n? Cultivate agile\, adaptive leaders that can improve your\norganizational culture and productivity\n? Enhance team dynamics and support company culture\n? Retain and further develop top talent\n? Affiliate your company with one of the country's most respected\ncommunity leadership organizations\nIndividual Benefits:\n? Expand leadership skills through dynamic trainings\n? Join a network of community driven leaders: approximately\n2\,250 Quest alumni and a LGH network of over 6\,000\nprofessionals\n? Develop relationships with key community stake holders\n? Engage in workshops about how to create more diverse\,\nequitable and inclusive environments\nFor our Community:\n? Develop stewards of community\n? Build community minded leaders in the region\n? Retain top talent to the region\nleadershipgh.\n\nOur signature Quest program adapts to the changing needs\nof leaders. In 2022\, the Quest program will host in-person\nexperiences and trainings that will challenge the next\ngeneration of Hartford leaders with workshops including\nFlexible &amp\; Agile Leadership\, Diversity\,\nEquity\, and Inclusion\, and Leadership Presence.\nAdditionally\, this experience will provide leaders with\nconnections during a time of extreme disconnect. For our\nHartford region\, the cultivation of leaders who are\nconnected to the Hartford community will be essential for\nour continued growth.
LOCATION:On Zoom Link: https://leadershipgh.org/professionals/quest/
UID:e.3150.9299
SEQUENCE:3
DTSTAMP:20260425T190826Z
URL:https://business.whchamber.com/events/details/quest-information-session-9299
END:VEVENT

END:VCALENDAR
