BEGIN:VCALENDAR
VERSION:2.0
PRODID:-//ChamberMaster//Event Calendar 2.0//EN
METHOD:PUBLISH
X-PUBLISHED-TTL:P3D
REFRESH-INTERVAL:P3D
CALSCALE:GREGORIAN
BEGIN:VEVENT
DTSTART:20220118T170000Z
DTEND:20220118T180000Z
X-MICROSOFT-CDO-ALLDAYEVENT:FALSE
SUMMARY:Quest Information Session
DESCRIPTION:Our signature Quest program adapts to the changing needs\nof leaders. In 2022\, the Quest program will host in-person\nexperiences and trainings that will challenge the next\ngeneration of Hartford leaders with workshops including\nFlexible & Agile Leadership\, Diversity\,\nEquity\, and Inclusion\, and Leadership Presence.\nAdditionally\, this experience will provide leaders with\nconnections during a time of extreme disconnect. For our\nHartford region\, the cultivation of leaders who are\nconnected to the Hartford community will be essential for\nour continued growth.
X-ALT-DESC;FMTTYPE=text/html:Our signature Quest program adapts to the changing needs\nof leaders. In 2022\, the Quest program will host in-person\nexperiences and trainings that will challenge the next\ngeneration of Hartford leaders with workshops including\nFlexible &amp\; Agile Leadership\, Diversity\,\nEquity\, and Inclusion\, and Leadership Presence.\nAdditionally\, this experience will provide leaders with\nconnections during a time of extreme disconnect. For our\nHartford region\, the cultivation of leaders who are\nconnected to the Hartford community will be essential for\nour continued growth.
LOCATION:Online on Zoom.
UID:e.3150.9301
SEQUENCE:3
DTSTAMP:20260425T190929Z
URL:https://business.whchamber.com/events/details/quest-information-session-01-18-2022-9301
END:VEVENT

END:VCALENDAR
