BEGIN:VCALENDAR
VERSION:2.0
PRODID:-//ChamberMaster//Event Calendar 2.0//EN
METHOD:PUBLISH
X-PUBLISHED-TTL:P3D
REFRESH-INTERVAL:P3D
CALSCALE:GREGORIAN
BEGIN:VEVENT
DTSTART:20220313T010000Z
DTEND:20220313T030000Z
X-MICROSOFT-CDO-ALLDAYEVENT:FALSE
SUMMARY:Purim Spectacular
DESCRIPTION:Join us for a global collaboration of traditions coming together for an extraordinary evening of shadow theater! Featuring... Matthew Cohen\, Professor of Puppet Arts and Theater Studies\, trained in shadow puppetry (wayang kulit) in Indonesia\, and has been awarded three royal titles for his contributions to Indonesian puppetry. About the Puppets... The puppets were designed by Ki Joko Susilo\, an eighth-generation Indonesian puppet master from New Zealand. The designs are based on an 18th century Italian megillah\, from a collection at Hebrew Union College. They were fabricated in a workshop in Central Java. About the Music... Son of Lion is a New York based musical ensemble and composers' collective\, performing with instruments derived from Indonesia. Meet the Performers... Following the show\, learn how shadow theater comes together\; from the design\, the fabrication and the performance.
X-ALT-DESC;FMTTYPE=text/html:Join us for a global collaboration of traditions coming together for an extraordinary evening of shadow theater! Featuring... Matthew Cohen\, Professor of Puppet Arts and Theater Studies\, trained in shadow puppetry (wayang kulit) in Indonesia\, and has been awarded three royal titles for his contributions to Indonesian puppetry. About the Puppets... The puppets were designed by Ki Joko Susilo\, an eighth-generation Indonesian puppet master from New Zealand. The designs are based on an 18th century Italian megillah\, from a collection at Hebrew Union College. They were fabricated in a workshop in Central Java. About the Music... Son of Lion is a New York based musical ensemble and composers&rsquo\; collective\, performing with instruments derived from Indonesia. Meet the Performers... Following the show\, learn how shadow theater comes together\; from the design\, the fabrication and the performance.
LOCATION:335 Bloomfield Ave West Hartford\, CT 06117
UID:e.3150.9332
SEQUENCE:3
DTSTAMP:20260425T220852Z
URL:https://business.whchamber.com/events/details/purim-spectacular-9332
END:VEVENT

END:VCALENDAR
