BEGIN:VCALENDAR
VERSION:2.0
PRODID:-//ChamberMaster//Event Calendar 2.0//EN
METHOD:PUBLISH
X-PUBLISHED-TTL:P3D
REFRESH-INTERVAL:P3D
CALSCALE:GREGORIAN
BEGIN:VEVENT
DTSTART:20220313T180000Z
DTEND:20220313T200000Z
X-MICROSOFT-CDO-ALLDAYEVENT:FALSE
SUMMARY:Purim Spectacular
DESCRIPTION:A Family Friendly Performance Experience a magical afternoon of shadow theater puppetry like you've never seen before. Pre-show event for children of all ages | 1:00 pm Come in costume to meet the characters\, their puppeteers and the musicians. Learn a song to be part of the production in Mordechai's Parade
X-ALT-DESC;FMTTYPE=text/html:A Family Friendly Performance Experience a magical afternoon of shadow theater puppetry like you&#39\;ve never seen before. Pre-show event for children of all ages | 1:00 pm Come in costume to meet the characters\, their puppeteers and the musicians. Learn a song to be part of the production in Mordechai&rsquo\;s Parade
LOCATION:335 Bloomfield Ave West Hartford\, CT 06117
UID:e.3150.9333
SEQUENCE:3
DTSTAMP:20260425T232926Z
URL:https://business.whchamber.com/events/details/purim-spectacular-03-13-2022-9333
END:VEVENT

END:VCALENDAR
