BEGIN:VCALENDAR
VERSION:2.0
PRODID:-//ChamberMaster//Event Calendar 2.0//EN
METHOD:PUBLISH
X-PUBLISHED-TTL:P3D
REFRESH-INTERVAL:P3D
CALSCALE:GREGORIAN
BEGIN:VEVENT
DTSTART:20220814T000000Z
DTEND:20220814T013000Z
X-MICROSOFT-CDO-ALLDAYEVENT:FALSE
SUMMARY:Pumping\, Bottles and Breastfeeding Workshop
DESCRIPTION:How you choose to feed your baby is deeply personal. At Mama Coach\, we strongly believe fed is best. This 90minute seminar is great for expectant moms\, new moms or moms who will be returning to work and want to continue breastfeeding or build a stash. We spend a lot of time diving into all different feeding methodologies whether you choose to breastfeed\, formula feed or combo feed your baby. Join me for this informational seminar to explore the options of feeding your newborn.
X-ALT-DESC;FMTTYPE=text/html:<span style="color:rgb(111\, 114\, 135)\; font-family:neue plak\,-apple-system\,blinkmacsystemfont\,roboto\,helvetica neue\,helvetica\,tahoma\,arial\,sans-serif\; font-size:16px">How you choose to feed your baby is deeply personal. At Mama Coach\, we strongly believe fed is best. This 90minute seminar is great for expectant moms\, new moms or moms who will be returning to work and want to continue breastfeeding or build a stash. We spend a lot of time diving into all different feeding methodologies whether you choose to breastfeed\, formula feed or combo feed your baby. Join me for this informational seminar to explore the options of feeding your newborn.</span>
LOCATION:Online - Zoom meeting
UID:e.3150.10558
SEQUENCE:3
DTSTAMP:20260426T025226Z
URL:https://business.whchamber.com/events/details/pumping-bottles-and-breastfeeding-workshop-10558
END:VEVENT

END:VCALENDAR
