BEGIN:VCALENDAR
VERSION:2.0
PRODID:-//ChamberMaster//Event Calendar 2.0//EN
METHOD:PUBLISH
X-PUBLISHED-TTL:P3D
REFRESH-INTERVAL:P3D
CALSCALE:GREGORIAN
BEGIN:VEVENT
DTSTART:20240317T200000Z
DTEND:20240317T210000Z
X-MICROSOFT-CDO-ALLDAYEVENT:FALSE
SUMMARY:Public Performance: Polkadots: The Cool Kids Musical
DESCRIPTION:Polkadots: The Cool Kids Musical follows 8-year-old Lily Polkadot who just moved to the "Squares Only" small town of Rockaway. As the first Polkadot in an all Square school\, Lily faces an almost impossible task of gaining acceptance from her peers. From daily bullying to segregated drinking fountains\, Lily's quest seems hopeless until she meets Sky\, a shy Square boy whose curiosity for her unique polkadot skin blooms into an unexpected pal-ship. Inspired by the events of The Little Rock 9\, Polkadots serves as a colorful history lesson for children\, reminding them that our individual differences make us awesome\, not outcasts. Public performance: March 17th at 4:00pm
X-ALT-DESC;FMTTYPE=text/html:Polkadots: The Cool Kids Musical follows 8-year-old Lily Polkadot who just moved to the &ldquo\;Squares Only&rdquo\; small town of Rockaway. As the first Polkadot in an all Square school\, Lily faces an almost impossible task of gaining acceptance from her peers. From daily bullying to segregated drinking fountains\, Lily&rsquo\;s quest seems hopeless until she meets Sky\, a shy Square boy whose curiosity for her unique polkadot skin blooms into an unexpected pal-ship. Inspired by the events of The Little Rock 9\, Polkadots serves as a colorful history lesson for children\, reminding them that our individual differences make us awesome\, not outcasts. Public performance: March 17th at 4:00pm
LOCATION:Mandell JCC 335 Bloomfield Ave West Hartford CT\, 06117
UID:e.3150.12807
SEQUENCE:3
DTSTAMP:20260424T222820Z
URL:https://business.whchamber.com/events/details/public-performance-polkadots-the-cool-kids-musical-12807
END:VEVENT

END:VCALENDAR
