BEGIN:VCALENDAR
VERSION:2.0
PRODID:-//ChamberMaster//Event Calendar 2.0//EN
METHOD:PUBLISH
X-PUBLISHED-TTL:P3D
REFRESH-INTERVAL:P3D
CALSCALE:GREGORIAN
BEGIN:VEVENT
DTSTART:20220519T150000Z
DTEND:20220519T193000Z
X-MICROSOFT-CDO-ALLDAYEVENT:FALSE
SUMMARY:Promotional Product Tradeshow Presented By HALO
DESCRIPTION:YOU'RE INVITED!!\n\nHALO is hosting a Promotional Product Tradeshow! Find new products\, trends\, and ideas to bring your brand to life as you explore thousands of products in hundreds of different categories.\n\nAttendees will receive giveaways and qualify for exciting door prizes. \n\nTO RSVP: email Emily.Dubord@halo.com \n\n \n\nRAIN OR SHINE - this event is in a covered portion of the stadium
X-ALT-DESC;FMTTYPE=text/html:<p><big><span style="color:rgb(255\, 0\, 204)"><u>YOU&#39\;RE INVITED!!</u></span></big></p>\n\n<p>HALO is hosting a Promotional Product Tradeshow! Find new products\, trends\, and ideas to bring your brand to life as you&nbsp\;explore thousands of products in hundreds of different categories.</p>\n\n<p>Attendees will receive giveaways and qualify for exciting door prizes.&nbsp\;</p>\n\n<p>TO RSVP: email Emily.Dubord@halo.com&nbsp\;</p>\n\n<p>&nbsp\;</p>\n\n<p><em>RAIN OR SHINE - this event is in a covered portion of the stadium</em></p>\n
LOCATION:Hartford Yard Goats Stadium at Dunkin' Donuts Park - 1214 Main St.\, Hartford CT
UID:e.3150.9410
SEQUENCE:3
DTSTAMP:20260426T010756Z
URL:https://business.whchamber.com/events/details/promotional-product-tradeshow-presented-by-halo-9410
END:VEVENT

END:VCALENDAR
