BEGIN:VCALENDAR
VERSION:2.0
PRODID:-//ChamberMaster//Event Calendar 2.0//EN
METHOD:PUBLISH
X-PUBLISHED-TTL:P3D
REFRESH-INTERVAL:P3D
CALSCALE:GREGORIAN
BEGIN:VEVENT
DTSTART:20220812T000000Z
DTEND:20220812T010000Z
X-MICROSOFT-CDO-ALLDAYEVENT:FALSE
SUMMARY:Prenatal Breastfeeding Workshop
DESCRIPTION:This 1hr online seminar is great for expecting and first time moms who are looking for more information on breastfeeding before baby arrives. Topics included: anatomy of the breast\, antenatal hand expression\, breastfeeding\, over/under supply and warning signs. A free e-book is included with the course.
X-ALT-DESC;FMTTYPE=text/html:<span style="font-size:12px"><span style="font-family:arial\,helvetica\,sans-serif">This 1hr online seminar is great for expecting and first time moms who are looking for more information on breastfeeding before baby arrives.&nbsp\;<span style="color:rgb(111\, 114\, 135)">Topics included: anatomy of the breast\, antenatal hand expression\, breastfeeding\, over/under supply and warning signs. A free e-book is included with the course.</span></span></span>
LOCATION:Online - Zoom meeting
UID:e.3150.10557
SEQUENCE:3
DTSTAMP:20260426T024932Z
URL:https://business.whchamber.com/events/details/prenatal-breastfeeding-workshop-10557
END:VEVENT

END:VCALENDAR
