BEGIN:VCALENDAR
VERSION:2.0
PRODID:-//ChamberMaster//Event Calendar 2.0//EN
METHOD:PUBLISH
X-PUBLISHED-TTL:P3D
REFRESH-INTERVAL:P3D
CALSCALE:GREGORIAN
BEGIN:VEVENT
DTSTART:20221116T220000Z
DTEND:20221117T010000Z
X-MICROSOFT-CDO-ALLDAYEVENT:FALSE
SUMMARY:Power of Food
DESCRIPTION:Join us for a very special evening hosted by LUX Lifestyle Magazine and The Delamar Hotel at the Artisan Restaurant in West Hartford on November 16th.\n\nCocktail hour in the stunning Delamar lobby followed by passed Hors'doeuvres\, seasonal food stations and LUX magazine columnist speaker of "The Power of Food " in the exclusive Artisan restaurant.\n\nA  portion of the evening proceeds will benefit A Town that Cares.
X-ALT-DESC;FMTTYPE=text/html:<p>Join us for a very special evening hosted by LUX Lifestyle Magazine and The Delamar Hotel at the Artisan Restaurant in West Hartford on November 16th.</p>\n\n<p>Cocktail hour in the stunning Delamar lobby followed by passed Hors&rsquo\;doeuvres\, seasonal food stations and LUX magazine columnist speaker of &ldquo\;The Power of Food &ldquo\; in the exclusive Artisan restaurant.</p>\n\n<p>A&nbsp\; portion of the evening proceeds will benefit A Town that Cares.</p>\n
LOCATION:Artisan West Hartford 1 Memorial Road West Hartford\, CT 06107
UID:e.3150.12400
SEQUENCE:3
DTSTAMP:20260425T224348Z
URL:https://business.whchamber.com/events/details/power-of-food-12400
END:VEVENT

END:VCALENDAR
