BEGIN:VCALENDAR
VERSION:2.0
PRODID:-//ChamberMaster//Event Calendar 2.0//EN
METHOD:PUBLISH
X-PUBLISHED-TTL:P3D
REFRESH-INTERVAL:P3D
CALSCALE:GREGORIAN
BEGIN:VEVENT
DTSTART:20221026T160000Z
DTEND:20221026T183000Z
X-MICROSOFT-CDO-ALLDAYEVENT:FALSE
SUMMARY:Post University - Corporate Recruiters Lunch
DESCRIPTION:Corporate Recruiters Lunch - Hosted by Post University's Center for Career and Professional Development\n\n\n\nNow\, more then ever\, our emphasis is ensuring our students are workforce ready. Please join our team from the revamped and reinvigorated CCPN as we host a dialogue about your hiring needs\, how we are preparing our students\, and opportunities to collaborate.
X-ALT-DESC;FMTTYPE=text/html:Corporate Recruiters Lunch - Hosted by Post University&#39\;s Center for Career and Professional Development<br />\n<br />\nNow\, more then ever\, our emphasis is ensuring our students are workforce ready. Please join our team from the revamped and reinvigorated CCPN as we host a dialogue about your hiring needs\, how we are preparing our students\, and opportunities to collaborate.
LOCATION:Country Club of Waterbury Donald Ross Room 1 Oronoke Road Waterbury\, CT 06708
UID:e.3150.11783
SEQUENCE:3
DTSTAMP:20260426T002049Z
URL:https://business.whchamber.com/events/details/post-university-corporate-recruiters-lunch-11783
END:VEVENT

END:VCALENDAR
