BEGIN:VCALENDAR
VERSION:2.0
PRODID:-//ChamberMaster//Event Calendar 2.0//EN
METHOD:PUBLISH
X-PUBLISHED-TTL:P3D
REFRESH-INTERVAL:P3D
CALSCALE:GREGORIAN
BEGIN:VEVENT
DTSTART:20250202T160000Z
DTEND:20250202T200000Z
X-MICROSOFT-CDO-ALLDAYEVENT:FALSE
SUMMARY:Pop-Up Thrift Shop
DESCRIPTION:Shop local with Warehouse 635!\n\n\n\nWe're hosting a Pop-Up Thrift Shop featuring a variety of local vendors offering vintage clothing\, upcycled jewelry\, pre-loved furniture and so much more!\n\nLet's make this a day full of unique finds\, amazing deals\, and community connections. Share the news\, grab your friends\, and we'll see you there!
X-ALT-DESC;FMTTYPE=text/html:<p>Shop local with Warehouse 635!<br />\n<br />\nWe&rsquo\;re hosting a <strong>Pop-Up Thrift Shop</strong> featuring a variety of local vendors offering vintage clothing\, upcycled jewelry\, pre-loved furniture and so much more!</p>\n\n<p>Let&rsquo\;s make this a day full of unique finds\, amazing deals\, and community connections. Share the news\, grab your friends\, and we&rsquo\;ll see you there!</p>\n
LOCATION:Warehouse 635 635 New Park Ave #2F West Hartford\, CT 06110
UID:e.3150.15827
SEQUENCE:3
DTSTAMP:20260424T024945Z
URL:https://business.whchamber.com/events/details/pop-up-thrift-shop-15827
END:VEVENT

END:VCALENDAR
