BEGIN:VCALENDAR
VERSION:2.0
PRODID:-//ChamberMaster//Event Calendar 2.0//EN
METHOD:PUBLISH
X-PUBLISHED-TTL:P3D
REFRESH-INTERVAL:P3D
CALSCALE:GREGORIAN
BEGIN:VEVENT
DTSTART:20250225T000000Z
DTEND:20250225T020000Z
X-MICROSOFT-CDO-ALLDAYEVENT:FALSE
SUMMARY:Poetry Lecture on Robert Frost
DESCRIPTION:Poetry Lecture on Robert Frost\n\nby Adam Plunkett\n\nAuthor of Love and Need: The Life of Robert Frost's Poetry
X-ALT-DESC;FMTTYPE=text/html:Poetry Lecture on Robert Frost<br />\nby Adam Plunkett<br />\nAuthor of <em>Love and Need: The Life of Robert Frost&#39\;s Poetry</em><br />\n&nbsp\;
LOCATION:University of Saint Joseph Mercy Hall\, Crystal Room 1678 Asylum Avenue West Hartford\, CT
UID:e.3150.15851
SEQUENCE:3
DTSTAMP:20260424T041710Z
URL:https://business.whchamber.com/events/details/poetry-lecture-on-robert-frost-15851
END:VEVENT

END:VCALENDAR
