BEGIN:VCALENDAR
VERSION:2.0
PRODID:-//ChamberMaster//Event Calendar 2.0//EN
METHOD:PUBLISH
X-PUBLISHED-TTL:P3D
REFRESH-INTERVAL:P3D
CALSCALE:GREGORIAN
BEGIN:VEVENT
DTSTART:20220326T160000Z
DTEND:20220326T180000Z
X-MICROSOFT-CDO-ALLDAYEVENT:FALSE
SUMMARY:Please Join us! F45 Joins Forces with Owners\; Bears BBQ\, Cake Gypsy\, Hopmeadow Brewing + Belavida\, to raise funds for World Central Kitchen to Feed Ukrainian Refuges.
DESCRIPTION:To the people of Ukraine\,\n\nWe are no army\, we are a small community in Connecticut\, USA.  We are restaurants and coffee shops. We are gyms\, photographers and salons. We are bakers\, designers and trainers\, but we can still fight for you! We can still feed you! \n\nWe've partnered with World Central Kitchen to keep the front lines fed! We are here to help! With you we serve. With you we fall down.\n\nIf you want to help...\n\nPlease join us Saturday\, March 26th at F45 Avon\, CT\n\n100% of the proceeds will go to the World Kitchen\n\nWant to help but don't know where to start? Join us Saturday\, March 26th\, to help us raise funds for the Ukrainian refugees!\n\nAbout this event\;\n\nWhen we saw the volunteer work Jamie McDonald of Bear's Smokehouse BBQ was doing in Poland for the Ukrainian refugees\, we knew we had to get involved! World Central Kitchen has created a new model for disaster relief helping devastated communities recover and establish resilient food systems and is first to the frontlines.\n\nThey are feeding hundreds of thousands of refugees fleeing Ukraine with the help of volunteers!\n\n\n	\n		\n			\n			\n			Seeing first-hand footage\, local Farmington Valley businesses and residents knew they wanted to help how they could to get others involved! You don't have to go to Poland to be a hero\, join our event to help get World Central Kitchen the supplies they need!\n			\n			\n		\n	\n\n\n\n	\n		\n			\n			\n			Ticket options -\n\n			F45 Workout & Event $30 - This ticket will be for participating in the F45 workout prior to the event! ALL proceeds benefit WCK. After the event\, enjoy food\, beer\, desserts\, raffles and more!\n\n			Event Admissions $20 - This ticket grants you access to all of the food\, beer\, desserts\, raffle and more! 100% of the proceeds go to WCK.\n\n			Food will be sponsored by Bear's BBQ\, The Cake Gypsy\, Bela Vida\, Hopmeadow Brewing
X-ALT-DESC;FMTTYPE=text/html:<p style="text-align:justify"><span style="font-size:12px"><span style="font-family:arial\,helvetica\,sans-serif"><strong>To the people of Ukraine\,</strong></span></span></p>\n\n<p style="text-align:justify"><span style="font-size:12px"><span style="font-family:arial\,helvetica\,sans-serif">We are no army\,&nbsp\;we are a small community in Connecticut\, USA.&nbsp\; We are restaurants and coffee shops. We&nbsp\;are gyms\, photographers and salons. We are&nbsp\;bakers\, designers and trainers\,&nbsp\;but we can still fight for you! We can still feed you!&nbsp\;</span></span></p>\n\n<p style="text-align:justify"><span style="font-size:12px"><span style="font-family:arial\,helvetica\,sans-serif">We&#39\;ve partnered with&nbsp\;<strong>World Central Kitchen&nbsp\;</strong>to keep the front lines fed!&nbsp\;We are here to help! With you&nbsp\;we serve. With you we fall down.</span></span></p>\n\n<p style="text-align:center"><span style="font-size:12px"><span style="font-family:arial\,helvetica\,sans-serif">If you want to help...</span></span></p>\n\n<p style="text-align:center"><span style="font-size:12px"><span style="font-family:arial\,helvetica\,sans-serif"><strong>Please join us Saturday\, March 26th at F45 Avon\, CT</strong></span></span></p>\n\n<p style="text-align:center"><span style="font-size:12px"><span style="font-family:arial\,helvetica\,sans-serif"><strong>100%&nbsp\;of the proceeds<strong>&nbsp\;</strong>will go to the World Kitchen</strong></span></span></p>\n\n<p><span style="font-size:12px"><span style="font-family:century gothic\,centurygothic\,applegothic\,sans-serif"><strong>Want to help but don&#39\;t know where to start?&nbsp\;</strong>Join us<strong>&nbsp\;Saturday\, March 26th\,&nbsp\;</strong>to help us raise funds for the Ukrainian refugees!</span></span></p>\n\n<p style="text-align:justify"><span style="font-size:12px"><strong><span style="font-family:century gothic\,centurygothic\,applegothic\,sans-serif">About this event\;</span></strong></span></p>\n\n<p style="text-align:justify"><span style="font-size:12px"><span style="font-family:century gothic\,centurygothic\,applegothic\,sans-serif">When we saw the volunteer work&nbsp\;<strong>Jamie McDonald of Bear&#39\;s Smokehouse BBQ</strong>&nbsp\;was doing in Poland for the Ukrainian refugees\, we knew we had to get involved!&nbsp\;<strong>World Central Kitchen has created a new model for disaster relief</strong>&nbsp\;helping devastated communities recover and establish resilient food systems and is first to the frontlines.</span></span></p>\n\n<p style="text-align:justify"><span style="font-size:12px"><span style="font-family:century gothic\,centurygothic\,applegothic\,sans-serif"><strong>They are feeding hundreds of thousands of refugees fleeing Ukraine with the help of volunteers!</strong></span></span></p>\n\n<table border="0" cellpadding="0" cellspacing="0" style="border-collapse:collapse\; color:rgb(0\, 0\, 0)\; font-family:arial\,helvetica\,sans-serif\; font-size:small\; line-height:inherit\; vertical-align:top\; width:100%">\n	<tbody>\n		<tr>\n			<td style="vertical-align:top">\n			<div>\n			<p style="text-align:justify"><span style="font-size:12px"><span style="font-family:century gothic\,centurygothic\,applegothic\,sans-serif">Seeing first-hand footage\, local Farmington Valley businesses and residents knew they wanted to help how they could to get others involved!&nbsp\;<strong>You don&#39\;t have to go to Poland to be a hero\, join our event to help get World Central Kitchen the supplies they need!</strong></span></span></p>\n			</div>\n			</td>\n		</tr>\n	</tbody>\n</table>\n\n<table border="0" cellpadding="0" cellspacing="0" style="border-collapse:collapse\; color:rgb(0\, 0\, 0)\; font-family:arial\,helvetica\,sans-serif\; font-size:small\; line-height:inherit\; vertical-align:top\; width:100%">\n	<tbody>\n		<tr>\n			<td style="vertical-align:top">\n			<div>\n			<p style="text-align:justify"><span style="font-size:12px"><span style="font-family:century gothic\,centurygothic\,applegothic\,sans-serif"><strong>Ticket options -</strong></span></span></p>\n\n			<p style="text-align:justify"><span style="font-size:12px"><span style="font-family:century gothic\,centurygothic\,applegothic\,sans-serif"><strong>F45 Workout &amp\; Event $30 -&nbsp\;</strong>This ticket will be for participating in the F45 workout prior to the event!&nbsp\;<strong>ALL proceeds benefit WCK.</strong>&nbsp\;After the event\, enjoy food\, beer\, desserts\, raffles and more!</span></span></p>\n\n			<p style="text-align:justify"><span style="font-size:12px"><span style="font-family:century gothic\,centurygothic\,applegothic\,sans-serif"><strong>Event Admissions $20 -</strong>&nbsp\;This ticket grants you access to all of the food\, beer\, desserts\, raffle and more!&nbsp\;<strong>100% of the proceeds go to WCK.</strong></span></span></p>\n\n			<p style="text-align:justify"><span style="font-size:12px"><span style="font-family:century gothic\,centurygothic\,applegothic\,sans-serif"><strong>Food will be sponsored by Bear&#39\;s BBQ\, The Cake Gypsy\, Bela Vida\, Hopmeadow Brewing</strong></span></span></p>\n			</div>\n			</td>\n		</tr>\n	</tbody>\n</table>\n
LOCATION:F45 Training Avon CT 260 West Main Street Avon\, CT 06001 https://www.google.com/maps/place/F45+Training+Avon+CT/@41.813641\,-72.853051\,15z/data=!4m2!3m1!1s0x0:0x59324b1e1823211a?sa=X&ved=2ahUKEwiOs_jYr9_2AhVDj4kEHbLHBCcQ_BJ6BAg0EAU
UID:e.3150.9388
SEQUENCE:3
DTSTAMP:20260425T221208Z
URL:https://business.whchamber.com/events/details/please-join-us-f45-joins-forces-with-owners-bears-bbq-cake-gypsy-hopmeadow-brewing-belavida-to-raise-funds-for-world-central-kitchen-to-feed-ukrainian-refuges-9388
END:VEVENT

END:VCALENDAR
