BEGIN:VCALENDAR
VERSION:2.0
PRODID:-//ChamberMaster//Event Calendar 2.0//EN
METHOD:PUBLISH
X-PUBLISHED-TTL:P3D
REFRESH-INTERVAL:P3D
CALSCALE:GREGORIAN
BEGIN:VEVENT
DTSTART:20211103T150000Z
DTEND:20211103T154500Z
X-MICROSOFT-CDO-ALLDAYEVENT:FALSE
SUMMARY:Playhouse Theatre Academy: Toddler Storytime
DESCRIPTION:With Meghan O?Leary-Clark Tuition: $130\, with $15 registration fee 11:00-11:45 At 224 Ecospace on Wednesdays: Sept. 15\, 22\, 29\, Oct. 6\, 13\, 20\, 27\, Nov. 3\, At Simsmore Square on Saturdays: Sept. 11\, 18\, 25\, Oct. 2\, 9\, 16\, 23\, 30 Registration Link: https://docs.google.com/forms/d/e/1FAIpQLSfZHOs52PVokxMrI_edksQUAYOpwAyWGY6MtlWOBVCCBKE6Nw/viewform?vc=0&c=0&w=1&flr=0 An introductory theatre class for children 2-4 years old accompanied by a parent or caregiver. We'll work together on identifying\, expressing and managing our feelings while having fun and exploring children's books.
X-ALT-DESC;FMTTYPE=text/html:With Meghan O?Leary-Clark Tuition: $130\, with $15 registration fee 11:00-11:45 At 224 Ecospace on Wednesdays: Sept. 15\, 22\, 29\, Oct. 6\, 13\, 20\, 27\, Nov. 3\, At Simsmore Square on Saturdays: Sept. 11\, 18\, 25\, Oct. 2\, 9\, 16\, 23\, 30 Registration Link: https://docs.google.com/forms/d/e/1FAIpQLSfZHOs52PVokxMrI_edksQUAYOpwAyWGY6MtlWOBVCCBKE6Nw/viewform?vc=0&amp\;c=0&amp\;w=1&amp\;flr=0 An introductory theatre class for children 2-4 years old accompanied by a parent or caregiver. We'll work together on identifying\, expressing and managing our feelings while having fun and exploring children's books.
LOCATION:224 Ecospace 224 Farmington Ave. Hartford\, CT 06105
UID:e.3150.9200
SEQUENCE:3
DTSTAMP:20260425T165009Z
URL:https://business.whchamber.com/events/details/playhouse-theatre-academy-toddler-storytime-11-03-2021-9200
END:VEVENT

END:VCALENDAR
