BEGIN:VCALENDAR
VERSION:2.0
PRODID:-//ChamberMaster//Event Calendar 2.0//EN
METHOD:PUBLISH
X-PUBLISHED-TTL:P3D
REFRESH-INTERVAL:P3D
CALSCALE:GREGORIAN
BEGIN:VEVENT
DTSTART:20260215T010000Z
DTEND:20260215T023000Z
X-MICROSOFT-CDO-ALLDAYEVENT:FALSE
SUMMARY:Playhouse on Park's Comedy Night Series
DESCRIPTION:Playhouse on Park Comedy Nights include 2-3 comedians offering 90 minutes of laughs! Tickets are $20\, reserved seating\, and BYOB! Saturday\, February 14\, 2026 @ 8:00pm Darren Rivera and Amy Tee DARREN RIVERA (Co-Headliner) "The Rice and Bean Joker\," Darren Rivera has been cracking up audiences for over two decades\, leaving his mark everywhere from packed comedy clubs to colleges across the U.S. A Bronx native who survived adolescence in Bucks County\, PA\, Darren honed his razor-sharp wit on the streets and stages of Hartford\, CT. His sarcastic\, observational style has earned him wins like WCCC's Last Local Comic Standing and a runner-up spot in Funniest Comic in New England. Darren has shared the stage with comedy heavyweights like Jo Koy and Ali Siddiq\, proving he can hold his own with the best. Whether he's roasting small-town quirks or breaking down the chaos of family life\, Darren's high-energy sets leave crowds wanting more. AMY TEE (Co-Headliner) "Not every crazy looks crazy\," says Amy Tee\, the comedian and motivational speaker who brings her boyish charm and dry wit to the stage with a storytelling style that shifts between stereotypes and reality. Identified by the Boston Globe as a comedian to watch\, and in Curve magazine as one of the "funniest lesbians in America\," Amy toured nationally and was a featured comedian in the film Laughing Matters-The Next Generation. As an official IOOV (In Our Own Voice) Presenter for National Alliance on Mental Illness (NAMI)\, Amy Tee proudly uses her comedy act to serve as a mental wellness advocate. She remains a fixture on the comedy circuit\, as a regular performer at the Boston Comedy Festival\, and also featured on Sirius XM Satellite Radio & LOGO television network. 2025-2026 Comedy Series sponsered by BUDR Cannabis
X-ALT-DESC;FMTTYPE=text/html:Playhouse on Park Comedy Nights include 2-3 comedians offering 90 minutes of laughs! Tickets are $20\, reserved seating\, and BYOB! Saturday\, February 14\, 2026 @ 8:00pm Darren Rivera and Amy Tee DARREN RIVERA (Co-Headliner) &ldquo\;The Rice and Bean Joker\,&rdquo\; Darren Rivera has been cracking up audiences for over two decades\, leaving his mark everywhere from packed comedy clubs to colleges across the U.S. A Bronx native who survived adolescence in Bucks County\, PA\, Darren honed his razor-sharp wit on the streets and stages of Hartford\, CT. His sarcastic\, observational style has earned him wins like WCCC&rsquo\;s Last Local Comic Standing and a runner-up spot in Funniest Comic in New England. Darren has shared the stage with comedy heavyweights like Jo Koy and Ali Siddiq\, proving he can hold his own with the best. Whether he&rsquo\;s roasting small-town quirks or breaking down the chaos of family life\, Darren&rsquo\;s high-energy sets leave crowds wanting more. AMY TEE (Co-Headliner) &ldquo\;Not every crazy looks crazy\,&rdquo\; says Amy Tee\, the comedian and motivational speaker who brings her boyish charm and dry wit to the stage with a storytelling style that shifts between stereotypes and reality. Identified by the Boston Globe as a comedian to watch\, and in Curve magazine as one of the &quot\;funniest lesbians in America\,&quot\; Amy toured nationally and was a featured comedian in the film Laughing Matters-The Next Generation. As an official IOOV (In Our Own Voice) Presenter for National Alliance on Mental Illness (NAMI)\, Amy Tee proudly uses her comedy act to serve as a mental wellness advocate. She remains a fixture on the comedy circuit\, as a regular performer at the Boston Comedy Festival\, and also featured on Sirius XM Satellite Radio &amp\; LOGO television network. 2025-2026 Comedy Series sponsered by BUDR Cannabis
LOCATION:Playhouse on Park 244 Park Road West Hartford\, CT 06119
UID:e.3150.17000
SEQUENCE:3
DTSTAMP:20260425T172500Z
URL:https://business.whchamber.com/events/details/playhouse-on-park-s-comedy-night-series-17000
END:VEVENT

END:VCALENDAR
