BEGIN:VCALENDAR
VERSION:2.0
PRODID:-//ChamberMaster//Event Calendar 2.0//EN
METHOD:PUBLISH
X-PUBLISHED-TTL:P3D
REFRESH-INTERVAL:P3D
CALSCALE:GREGORIAN
BEGIN:VEVENT
DTSTART:20241010T210000Z
DTEND:20241011T000000Z
X-MICROSOFT-CDO-ALLDAYEVENT:FALSE
SUMMARY:Pink Campaign Silent Auction for Breast Cancer Awareness Month
DESCRIPTION:
X-ALT-DESC;FMTTYPE=text/html:
LOCATION:Parkville Market 1400 Park St\, Hartford\, CT 06106
UID:e.3150.15710
SEQUENCE:3
DTSTAMP:20260424T134842Z
URL:https://business.whchamber.com/events/details/pink-campaign-silent-auction-for-breast-cancer-awareness-month-15710
END:VEVENT

END:VCALENDAR
