BEGIN:VCALENDAR
VERSION:2.0
PRODID:-//ChamberMaster//Event Calendar 2.0//EN
METHOD:PUBLISH
X-PUBLISHED-TTL:P3D
REFRESH-INTERVAL:P3D
CALSCALE:GREGORIAN
BEGIN:VEVENT
DTSTART:20240810T150000Z
DTEND:20240810T170000Z
X-MICROSOFT-CDO-ALLDAYEVENT:FALSE
SUMMARY:Painting Outside the Lines
DESCRIPTION:This workshop is so much more than painting. Teens will explore their creativity\, learn to trust their insights and embark on a journey of self-discovery. Led by the Light Source Center's experienced teachers\, teens will experience short meditations\, and plenty of art supplies to help them make the most of their creative explorations. Teens don't need any art or painting experience. This workshop is about the journey\, not the final product. We provide all the supplies. For middle school - aged kids.
X-ALT-DESC;FMTTYPE=text/html:<div style="margin-left:-15px\; margin-right:-15px">\n<div>\n<div>\n<div>\n<div>\n<div>\n<p>This workshop is so much more than painting. Teens will explore their creativity\, learn to trust their insights and embark on a journey of&nbsp\;self-discovery. Led by the Light Source Center&rsquo\;s experienced teachers\, teens will experience short meditations\, and plenty of art supplies to help them make the most of their creative explorations. Teens don&rsquo\;t need any art or painting experience. This workshop is about the journey\, not the final product. We provide all the supplies. For middle school - aged kids.</p>\n</div>\n</div>\n</div>\n</div>\n</div>\n</div>\n\n<div style="margin-left:-15px\; margin-right:-15px">\n<div>\n<div>\n<div>\n<div>&nbsp\;</div>\n</div>\n</div>\n</div>\n</div>\n
LOCATION:The Light Source Center 2437 Albany Ave. West Hartford. CT (corner of Sky View and Albany Ave)
UID:e.3150.13022
SEQUENCE:3
DTSTAMP:20260424T152535Z
URL:https://business.whchamber.com/events/details/painting-outside-the-lines-08-10-2024-13022
END:VEVENT

END:VCALENDAR
