BEGIN:VCALENDAR
VERSION:2.0
PRODID:-//ChamberMaster//Event Calendar 2.0//EN
METHOD:PUBLISH
X-PUBLISHED-TTL:P3D
REFRESH-INTERVAL:P3D
CALSCALE:GREGORIAN
BEGIN:VEVENT
DTSTART:20250320T210000Z
DTEND:20250320T233000Z
X-MICROSOFT-CDO-ALLDAYEVENT:FALSE
SUMMARY:Opening Reception of A House Divided: Photography and the Civil War
DESCRIPTION:The Art Museum at University of Saint Joseph (USJ) will be the first venue for the traveling exhibition A House Divided: Photography and the Civil War. This exhibition comprises more than 100 rare original photographic prints and cased images documenting important aspects of the Civil War as recorded by the most gifted artist-photographers of 19th century America. \n\n \n\nWhile the Civil War was not the first conflict recorded by the camera\, it was by far the most extensive photographic effort to date\, with some 300 itinerant photographers covering every theater of war\, and every portrait studio memorializing the new recruits in their fresh uniforms. Photography was only 22 years old when the first shots were fired on Fort Sumter\, but photomechanical advances already made it possible to reproduce these images in the nation's newspapers and magazines. In this respect modern photojournalism was born in the Civil War. \n\n \n\nJoin us for an opening reception on Thursday\, March 20\, from 5-7:30 p.m. This event is free and open to the public. Tickets are not required but registration is recommended at ArtMuseumUSJ.eventbrite.com. For more information contact roakley@usj.edu or call 860.231.5399.\n\n \n\nAll works in the exhibition are from the collection of Michael Mattis and Judith Hochberg. This exhibition was organized by art2art Circulating Exhibitions. At USJ it is supported in part by the Karen L. Chase '97 Fund.\n\n\n\nImage Caption: Photographer unknown. Union soldier with prominent foulard\, 1861. Hand-tinted sixth-plate ambrotype. Collection of Michael Mattis and Judith Hochberg.
X-ALT-DESC;FMTTYPE=text/html:<span style="color:#464646"><span style="font-size:12.0pt">The Art Museum at University of Saint Joseph (USJ) will be the first venue for the traveling exhibition </span></span><em><span style="color:#464646"><span style="font-size:12.0pt">A House Divided: Photography and the Civil War</span></span></em><strong><span style="color:#464646"><span style="font-size:12.0pt">. </span></span></strong><span style="color:#464646"><span style="font-size:12.0pt">This exhibition comprises more than 100 rare original photographic prints and cased images documenting important aspects of the Civil War as recorded by the most gifted artist-photographers of 19th century America.&nbsp\;</span></span><br />\n&nbsp\;<br />\n<span style="color:#464646"><span style="font-size:12.0pt">While the Civil War was not the first conflict recorded by the camera\, it was by far the most extensive photographic effort to date\, with some 300 itinerant photographers covering every theater of war\, and every portrait studio memorializing the new recruits in their fresh uniforms. Photography was only 22 years old when the first shots were fired on Fort Sumter\, but photomechanical advances already made it possible to reproduce these images in the nation&rsquo\;s newspapers and magazines. In this respect modern photojournalism was born in the Civil War.&nbsp\;</span></span><br />\n&nbsp\;<br />\n<span style="color:#464646"><span style="font-size:12.0pt">Join us for an opening reception on Thursday\, March 20\, from 5-7:30 p.m. This event is free and open to the public. Tickets are not required but registration is recommended at </span></span><a href="https://usjedu-my.sharepoint.com/personal/roakley_usj_edu/Documents/Exhibition/A%20House%20Divided/ArtMuseumusj.eventbrite.com"><span style="font-size:12.0pt">ArtMuseumUSJ.eventbrite.com</span></a><span style="color:#464646"><span style="font-size:12.0pt">. For more information contact </span></span><a href="mailto:roakley@usj.edu"><span style="font-size:12.0pt">roakley@usj.edu</span></a><span style="color:#464646"><span style="font-size:12.0pt"> or call 860.231.5399.</span></span><br />\n&nbsp\;<br />\n<em><span style="color:#464646"><span style="font-size:12.0pt">All works in the exhibition are from the collection of Michael Mattis and Judith Hochberg. This exhibition was organized by art2art Circulating Exhibitions. At USJ it is supported in part by the Karen L. Chase &rsquo\;97 Fund.</span></span></em><br />\n<br />\nImage Caption:&nbsp\;Photographer unknown. Union soldier with prominent foulard\, 1861. Hand-tinted sixth-plate ambrotype. Collection of Michael Mattis and Judith Hochberg.<br />\n<br />\n&nbsp\;
LOCATION:Art Museum\, University of Saint Joseph\, West Hartford\, CT
UID:e.3150.15904
SEQUENCE:3
DTSTAMP:20260424T024859Z
URL:https://business.whchamber.com/events/details/opening-reception-of-a-house-divided-photography-and-the-civil-war-15904
END:VEVENT

END:VCALENDAR
