BEGIN:VCALENDAR
VERSION:2.0
PRODID:-//ChamberMaster//Event Calendar 2.0//EN
METHOD:PUBLISH
X-PUBLISHED-TTL:P3D
REFRESH-INTERVAL:P3D
CALSCALE:GREGORIAN
BEGIN:VEVENT
DTSTART:20221115T000000Z
DTEND:20221115T020000Z
X-MICROSOFT-CDO-ALLDAYEVENT:FALSE
SUMMARY:Open Improv Workshop with Claire Zick!
DESCRIPTION:Has it been a while since your last improv class? Are you looking to work some rust out\, build your improv skills\, or just have fun making things up again? Come join our first improv workshop since the pandemic to dip your toe back into the magic. Open to all improvisers (beginners to advanced) this workshop will refresh fundamentals with a focus on scene work. Come join the fun with the amazing Claire Zick in this energetic and fun filled class!
X-ALT-DESC;FMTTYPE=text/html:Has it been a while since your last improv class? Are you looking to work some rust out\, build your improv skills\, or just have fun making things up again? Come join our first improv workshop since the pandemic to dip your toe back into the magic. Open to all improvisers (beginners to advanced) this workshop will refresh fundamentals with a focus on scene work. Come join the fun with the amazing Claire Zick in this energetic and fun filled class!
LOCATION:224 Ecospace 224 Farmington Ave\, Hartford\, CT 06105
UID:e.3150.12416
SEQUENCE:3
DTSTAMP:20260425T224229Z
URL:https://business.whchamber.com/events/details/open-improv-workshop-with-claire-zick-12416
END:VEVENT

END:VCALENDAR
