BEGIN:VCALENDAR
VERSION:2.0
PRODID:-//ChamberMaster//Event Calendar 2.0//EN
METHOD:PUBLISH
X-PUBLISHED-TTL:P3D
REFRESH-INTERVAL:P3D
CALSCALE:GREGORIAN
BEGIN:VEVENT
DTSTART:20230610T160000Z
DTEND:20230610T160000Z
X-MICROSOFT-CDO-ALLDAYEVENT:FALSE
SUMMARY:Open House Day at the Noah Webster House
DESCRIPTION:The Noah Webster House & West Hartford Historical Society will offer FREE admission 1:00pm   4:00 pm on Saturday\, June 10 to celebrate CT Open House Day. Museum docents will be stationed throughout the historic house. Bring your family to experience activities such as quill writing and colonial games! In addition\, stick around for WordHouse Poetry- a series of FREE poetry readings from 2:00pm   4:00pm. See you there!
X-ALT-DESC;FMTTYPE=text/html:The Noah Webster House &amp\; West Hartford Historical Society will offer FREE admission 1:00pm &ndash\; 4:00 pm on Saturday\, June 10 to celebrate CT Open House Day. Museum docents will be stationed throughout the historic house. Bring your family to experience activities such as quill writing and colonial games! In addition\, stick around for WordHouse Poetry- a series of FREE poetry readings from 2:00pm &ndash\; 4:00pm. See you there!
LOCATION:Noah Webster House 227 South Main Street West Hartford\, CT 06107
UID:e.3150.12588
SEQUENCE:3
DTSTAMP:20260425T133011Z
URL:https://business.whchamber.com/events/details/open-house-day-at-the-noah-webster-house-12588
END:VEVENT

END:VCALENDAR
