BEGIN:VCALENDAR
VERSION:2.0
PRODID:-//ChamberMaster//Event Calendar 2.0//EN
METHOD:PUBLISH
X-PUBLISHED-TTL:P3D
REFRESH-INTERVAL:P3D
CALSCALE:GREGORIAN
BEGIN:VEVENT
DTSTART:20250228T200000Z
DTEND:20250228T220000Z
X-MICROSOFT-CDO-ALLDAYEVENT:FALSE
SUMMARY:Open Call for Models and Actors at Tina Kiniry Management
DESCRIPTION:Tina Kiniry Management is a distinguished modeling and acting agency based in West Hartford\, Connecticut. With nearly 40 years of experience\, TKM specializes in booking modeling and acting jobs throughout New England and New York\, representing a diverse and accomplished roster of talent. TKM is a licensed and bonded agency. We are now scouting for new faces ages 3-15 years old.  Join us for your chance to get discovered!  Learn more about us @tinakinirymgmt online and on Instagram.  RSVP bit.ly/TKMOpenCall
X-ALT-DESC;FMTTYPE=text/html:<span style="color:rgb(17\, 17\, 17)\; font-family:roboto\,open sans\,helvetica neue\,helvetica\,arial\,sans-serif\; font-size:18px">Tina Kiniry Management is a distinguished modeling and acting agency based in West Hartford\, Connecticut. With nearly 40 years of experience\, TKM specializes in booking modeling and acting jobs throughout New England and New York\, representing a diverse and accomplished roster of talent. TKM is a licensed and bonded agency. We are now scouting for new faces ages 3-15 years old.&nbsp\; Join us for your chance to get discovered!&nbsp\; Learn more about us @tinakinirymgmt online and on Instagram.&nbsp\; RSVP&nbsp\;</span><a href="https://bit.ly/TKMOpenCall" target="_blank">bit.ly/TKMOpenCall</a>
LOCATION:Tina Kiniry Management 998 Farmington Ave Suite 220 W. Hartford\, CT 06107 860-967-3790
UID:e.3150.15884
SEQUENCE:3
DTSTAMP:20260424T024803Z
URL:https://business.whchamber.com/events/details/open-call-for-models-and-actors-at-tina-kiniry-management-15884
END:VEVENT

END:VCALENDAR
