BEGIN:VCALENDAR
VERSION:2.0
PRODID:-//ChamberMaster//Event Calendar 2.0//EN
METHOD:PUBLISH
X-PUBLISHED-TTL:P3D
REFRESH-INTERVAL:P3D
CALSCALE:GREGORIAN
BEGIN:VEVENT
DTSTART:20221110T130000Z
DTEND:20221111T020000Z
X-MICROSOFT-CDO-ALLDAYEVENT:FALSE
SUMMARY:OBAGI Medical skin care Friends & Family Event
DESCRIPTION:Active Massage Envy members save 20% off OBAGI medical skin care products. Non-members save 10%. Not a member? Join today to unlock all the cost-saving benefits! See clinic for details.
X-ALT-DESC;FMTTYPE=text/html:Active Massage Envy members save 20% off OBAGI medical skin care products. Non-members save 10%. Not a member? Join today to unlock all the cost-saving benefits! See clinic for details.
LOCATION:At Massage Envy located at 333 North Main Steet Unit 35 West Hartford\, CT 06117
UID:e.3150.12405
SEQUENCE:3
DTSTAMP:20260425T224629Z
URL:https://business.whchamber.com/events/details/obagi-medical-skin-care-friends-family-event-11-10-2022-12405
END:VEVENT

END:VCALENDAR
