BEGIN:VCALENDAR
VERSION:2.0
PRODID:-//ChamberMaster//Event Calendar 2.0//EN
METHOD:PUBLISH
X-PUBLISHED-TTL:P3D
REFRESH-INTERVAL:P3D
CALSCALE:GREGORIAN
BEGIN:VEVENT
DTSTART:20220820T190000Z
DTEND:20220820T203000Z
X-MICROSOFT-CDO-ALLDAYEVENT:FALSE
SUMMARY:Not Your Average Prenatal Class
DESCRIPTION:This 3hr course will be broken into 2 sessions over 2 days. SESSION 2 WILL BE August 21st at 3pm\, please make sure you can attend both sessions before purchasing. The cost includes both sessions and a free eBook.
X-ALT-DESC;FMTTYPE=text/html:<span style="color:rgb(111\, 114\, 135)\; font-family:neue plak\,-apple-system\,blinkmacsystemfont\,roboto\,helvetica neue\,helvetica\,tahoma\,arial\,sans-serif\; font-size:16px">This 3hr course will be broken into 2 sessions over 2 days.&nbsp\;</span><strong>SESSION 2 WILL BE August 21st at 3pm</strong><span style="color:rgb(111\, 114\, 135)\; font-family:neue plak\,-apple-system\,blinkmacsystemfont\,roboto\,helvetica neue\,helvetica\,tahoma\,arial\,sans-serif\; font-size:16px">\, please make sure you can attend both sessions before purchasing. The cost includes both sessions and a free eBook.</span>
LOCATION:Online - Zoom meeting
UID:e.3150.10560
SEQUENCE:3
DTSTAMP:20260426T024537Z
URL:https://business.whchamber.com/events/details/not-your-average-prenatal-class-10560
END:VEVENT

END:VCALENDAR
